BEGIN:VCALENDAR
VERSION:2.0
PRODID:-//Local 19 - ECPv6.15.18//NONSGML v1.0//EN
CALSCALE:GREGORIAN
METHOD:PUBLISH
X-WR-CALNAME:Local 19
X-ORIGINAL-URL:https://iueclocal19.org
X-WR-CALDESC:Events for Local 19
REFRESH-INTERVAL;VALUE=DURATION:PT1H
X-Robots-Tag:noindex
X-PUBLISHED-TTL:PT1H
BEGIN:VTIMEZONE
TZID:UTC
BEGIN:STANDARD
TZOFFSETFROM:+0000
TZOFFSETTO:+0000
TZNAME:UTC
DTSTART:20260101T000000
END:STANDARD
END:VTIMEZONE
BEGIN:VEVENT
DTSTART;TZID=UTC:20271012T173000
DTEND;TZID=UTC:20271012T203000
DTSTAMP:20260425T105916
CREATED:20260419T211934Z
LAST-MODIFIED:20260419T211934Z
UID:10000493-1823362200-1823373000@iueclocal19.org
SUMMARY:Seattle Union Meeting
DESCRIPTION:
URL:https://iueclocal19.org/event/seattle-union-meeting/2027-10-12/
CATEGORIES:default
END:VEVENT
BEGIN:VEVENT
DTSTART;TZID=UTC:20271102T170000
DTEND;TZID=UTC:20271102T200000
DTSTAMP:20260425T105916
CREATED:20260419T211817Z
LAST-MODIFIED:20260419T211817Z
UID:10000434-1825174800-1825185600@iueclocal19.org
SUMMARY:Executive Board Meeting
DESCRIPTION:
URL:https://iueclocal19.org/event/executive-board-meeting-4/2027-11-02/
CATEGORIES:default
END:VEVENT
BEGIN:VEVENT
DTSTART;TZID=UTC:20271109T130000
DTEND;TZID=UTC:20271109T150000
DTSTAMP:20260425T105916
CREATED:20260419T212412Z
LAST-MODIFIED:20260419T212412Z
UID:10000554-1825765200-1825772400@iueclocal19.org
SUMMARY:Local 19 Joint Apprenticeship Committee
DESCRIPTION:
URL:https://iueclocal19.org/event/local-19-joint-apprenticeship-committee/2027-11-09/
CATEGORIES:default
END:VEVENT
BEGIN:VEVENT
DTSTART;TZID=UTC:20271109T173000
DTEND;TZID=UTC:20271109T203000
DTSTAMP:20260425T105916
CREATED:20260419T211934Z
LAST-MODIFIED:20260419T211934Z
UID:10000494-1825781400-1825792200@iueclocal19.org
SUMMARY:Seattle Union Meeting
DESCRIPTION:
URL:https://iueclocal19.org/event/seattle-union-meeting/2027-11-09/
CATEGORIES:default
END:VEVENT
BEGIN:VEVENT
DTSTART;TZID=UTC:20271207T170000
DTEND;TZID=UTC:20271207T200000
DTSTAMP:20260425T105916
CREATED:20260419T211817Z
LAST-MODIFIED:20260419T211817Z
UID:10000435-1828198800-1828209600@iueclocal19.org
SUMMARY:Executive Board Meeting
DESCRIPTION:
URL:https://iueclocal19.org/event/executive-board-meeting-4/2027-12-07/
CATEGORIES:default
END:VEVENT
BEGIN:VEVENT
DTSTART;TZID=UTC:20271214T130000
DTEND;TZID=UTC:20271214T150000
DTSTAMP:20260425T105916
CREATED:20260419T212412Z
LAST-MODIFIED:20260419T212412Z
UID:10000555-1828789200-1828796400@iueclocal19.org
SUMMARY:Local 19 Joint Apprenticeship Committee
DESCRIPTION:
URL:https://iueclocal19.org/event/local-19-joint-apprenticeship-committee/2027-12-14/
CATEGORIES:default
END:VEVENT
BEGIN:VEVENT
DTSTART;TZID=UTC:20271214T173000
DTEND;TZID=UTC:20271214T203000
DTSTAMP:20260425T105916
CREATED:20260419T211934Z
LAST-MODIFIED:20260419T211934Z
UID:10000495-1828805400-1828816200@iueclocal19.org
SUMMARY:Seattle Union Meeting
DESCRIPTION:
URL:https://iueclocal19.org/event/seattle-union-meeting/2027-12-14/
CATEGORIES:default
END:VEVENT
BEGIN:VEVENT
DTSTART;TZID=UTC:20280104T170000
DTEND;TZID=UTC:20280104T200000
DTSTAMP:20260425T105916
CREATED:20260419T211817Z
LAST-MODIFIED:20260419T211817Z
UID:10000436-1830618000-1830628800@iueclocal19.org
SUMMARY:Executive Board Meeting
DESCRIPTION:
URL:https://iueclocal19.org/event/executive-board-meeting-4/2028-01-04/
CATEGORIES:default
END:VEVENT
BEGIN:VEVENT
DTSTART;TZID=UTC:20280111T130000
DTEND;TZID=UTC:20280111T150000
DTSTAMP:20260425T105916
CREATED:20260419T212412Z
LAST-MODIFIED:20260419T212412Z
UID:10000556-1831208400-1831215600@iueclocal19.org
SUMMARY:Local 19 Joint Apprenticeship Committee
DESCRIPTION:
URL:https://iueclocal19.org/event/local-19-joint-apprenticeship-committee/2028-01-11/
CATEGORIES:default
END:VEVENT
BEGIN:VEVENT
DTSTART;TZID=UTC:20280111T173000
DTEND;TZID=UTC:20280111T203000
DTSTAMP:20260425T105916
CREATED:20260419T211934Z
LAST-MODIFIED:20260419T211934Z
UID:10000496-1831224600-1831235400@iueclocal19.org
SUMMARY:Seattle Union Meeting
DESCRIPTION:
URL:https://iueclocal19.org/event/seattle-union-meeting/2028-01-11/
CATEGORIES:default
END:VEVENT
BEGIN:VEVENT
DTSTART;TZID=UTC:20280201T170000
DTEND;TZID=UTC:20280201T200000
DTSTAMP:20260425T105916
CREATED:20260419T211817Z
LAST-MODIFIED:20260419T211817Z
UID:10000437-1833037200-1833048000@iueclocal19.org
SUMMARY:Executive Board Meeting
DESCRIPTION:
URL:https://iueclocal19.org/event/executive-board-meeting-4/2028-02-01/
CATEGORIES:default
END:VEVENT
BEGIN:VEVENT
DTSTART;TZID=UTC:20280208T130000
DTEND;TZID=UTC:20280208T150000
DTSTAMP:20260425T105916
CREATED:20260419T212412Z
LAST-MODIFIED:20260419T212412Z
UID:10000557-1833627600-1833634800@iueclocal19.org
SUMMARY:Local 19 Joint Apprenticeship Committee
DESCRIPTION:
URL:https://iueclocal19.org/event/local-19-joint-apprenticeship-committee/2028-02-08/
CATEGORIES:default
END:VEVENT
BEGIN:VEVENT
DTSTART;TZID=UTC:20280208T173000
DTEND;TZID=UTC:20280208T203000
DTSTAMP:20260425T105916
CREATED:20260419T211934Z
LAST-MODIFIED:20260419T211934Z
UID:10000497-1833643800-1833654600@iueclocal19.org
SUMMARY:Seattle Union Meeting
DESCRIPTION:
URL:https://iueclocal19.org/event/seattle-union-meeting/2028-02-08/
CATEGORIES:default
END:VEVENT
BEGIN:VEVENT
DTSTART;TZID=UTC:20280307T170000
DTEND;TZID=UTC:20280307T200000
DTSTAMP:20260425T105916
CREATED:20260419T211817Z
LAST-MODIFIED:20260419T211817Z
UID:10000438-1836061200-1836072000@iueclocal19.org
SUMMARY:Executive Board Meeting
DESCRIPTION:
URL:https://iueclocal19.org/event/executive-board-meeting-4/2028-03-07/
CATEGORIES:default
END:VEVENT
BEGIN:VEVENT
DTSTART;TZID=UTC:20280314T130000
DTEND;TZID=UTC:20280314T150000
DTSTAMP:20260425T105916
CREATED:20260419T212412Z
LAST-MODIFIED:20260419T212412Z
UID:10000558-1836651600-1836658800@iueclocal19.org
SUMMARY:Local 19 Joint Apprenticeship Committee
DESCRIPTION:
URL:https://iueclocal19.org/event/local-19-joint-apprenticeship-committee/2028-03-14/
CATEGORIES:default
END:VEVENT
BEGIN:VEVENT
DTSTART;TZID=UTC:20280314T173000
DTEND;TZID=UTC:20280314T203000
DTSTAMP:20260425T105916
CREATED:20260419T211934Z
LAST-MODIFIED:20260419T211934Z
UID:10000498-1836667800-1836678600@iueclocal19.org
SUMMARY:Seattle Union Meeting
DESCRIPTION:
URL:https://iueclocal19.org/event/seattle-union-meeting/2028-03-14/
CATEGORIES:default
END:VEVENT
BEGIN:VEVENT
DTSTART;TZID=UTC:20280404T170000
DTEND;TZID=UTC:20280404T200000
DTSTAMP:20260425T105916
CREATED:20260419T211817Z
LAST-MODIFIED:20260419T211817Z
UID:10000439-1838480400-1838491200@iueclocal19.org
SUMMARY:Executive Board Meeting
DESCRIPTION:
URL:https://iueclocal19.org/event/executive-board-meeting-4/2028-04-04/
CATEGORIES:default
END:VEVENT
BEGIN:VEVENT
DTSTART;TZID=UTC:20280411T130000
DTEND;TZID=UTC:20280411T150000
DTSTAMP:20260425T105916
CREATED:20260419T212412Z
LAST-MODIFIED:20260419T212412Z
UID:10000559-1839070800-1839078000@iueclocal19.org
SUMMARY:Local 19 Joint Apprenticeship Committee
DESCRIPTION:
URL:https://iueclocal19.org/event/local-19-joint-apprenticeship-committee/2028-04-11/
CATEGORIES:default
END:VEVENT
BEGIN:VEVENT
DTSTART;TZID=UTC:20280411T173000
DTEND;TZID=UTC:20280411T203000
DTSTAMP:20260425T105916
CREATED:20260419T211934Z
LAST-MODIFIED:20260419T211934Z
UID:10000499-1839087000-1839097800@iueclocal19.org
SUMMARY:Seattle Union Meeting
DESCRIPTION:
URL:https://iueclocal19.org/event/seattle-union-meeting/2028-04-11/
CATEGORIES:default
END:VEVENT
BEGIN:VEVENT
DTSTART;TZID=UTC:20280502T170000
DTEND;TZID=UTC:20280502T200000
DTSTAMP:20260425T105916
CREATED:20260419T211817Z
LAST-MODIFIED:20260419T211817Z
UID:10000440-1840899600-1840910400@iueclocal19.org
SUMMARY:Executive Board Meeting
DESCRIPTION:
URL:https://iueclocal19.org/event/executive-board-meeting-4/2028-05-02/
CATEGORIES:default
END:VEVENT
BEGIN:VEVENT
DTSTART;TZID=UTC:20280509T130000
DTEND;TZID=UTC:20280509T150000
DTSTAMP:20260425T105916
CREATED:20260419T212412Z
LAST-MODIFIED:20260419T212412Z
UID:10000560-1841490000-1841497200@iueclocal19.org
SUMMARY:Local 19 Joint Apprenticeship Committee
DESCRIPTION:
URL:https://iueclocal19.org/event/local-19-joint-apprenticeship-committee/2028-05-09/
CATEGORIES:default
END:VEVENT
BEGIN:VEVENT
DTSTART;TZID=UTC:20280509T173000
DTEND;TZID=UTC:20280509T203000
DTSTAMP:20260425T105916
CREATED:20260419T211934Z
LAST-MODIFIED:20260419T211934Z
UID:10000500-1841506200-1841517000@iueclocal19.org
SUMMARY:Seattle Union Meeting
DESCRIPTION:
URL:https://iueclocal19.org/event/seattle-union-meeting/2028-05-09/
CATEGORIES:default
END:VEVENT
BEGIN:VEVENT
DTSTART;TZID=UTC:20280606T170000
DTEND;TZID=UTC:20280606T200000
DTSTAMP:20260425T105916
CREATED:20260419T211817Z
LAST-MODIFIED:20260419T211817Z
UID:10000441-1843923600-1843934400@iueclocal19.org
SUMMARY:Executive Board Meeting
DESCRIPTION:
URL:https://iueclocal19.org/event/executive-board-meeting-4/2028-06-06/
CATEGORIES:default
END:VEVENT
BEGIN:VEVENT
DTSTART;TZID=UTC:20280613T130000
DTEND;TZID=UTC:20280613T150000
DTSTAMP:20260425T105916
CREATED:20260419T212412Z
LAST-MODIFIED:20260419T212412Z
UID:10000561-1844514000-1844521200@iueclocal19.org
SUMMARY:Local 19 Joint Apprenticeship Committee
DESCRIPTION:
URL:https://iueclocal19.org/event/local-19-joint-apprenticeship-committee/2028-06-13/
CATEGORIES:default
END:VEVENT
BEGIN:VEVENT
DTSTART;TZID=UTC:20280613T173000
DTEND;TZID=UTC:20280613T203000
DTSTAMP:20260425T105916
CREATED:20260419T211934Z
LAST-MODIFIED:20260419T211934Z
UID:10000501-1844530200-1844541000@iueclocal19.org
SUMMARY:Seattle Union Meeting
DESCRIPTION:
URL:https://iueclocal19.org/event/seattle-union-meeting/2028-06-13/
CATEGORIES:default
END:VEVENT
BEGIN:VEVENT
DTSTART;TZID=UTC:20280704T170000
DTEND;TZID=UTC:20280704T200000
DTSTAMP:20260425T105916
CREATED:20260419T211817Z
LAST-MODIFIED:20260419T211817Z
UID:10000442-1846342800-1846353600@iueclocal19.org
SUMMARY:Executive Board Meeting
DESCRIPTION:
URL:https://iueclocal19.org/event/executive-board-meeting-4/2028-07-04/
CATEGORIES:default
END:VEVENT
BEGIN:VEVENT
DTSTART;TZID=UTC:20280711T130000
DTEND;TZID=UTC:20280711T150000
DTSTAMP:20260425T105916
CREATED:20260419T212412Z
LAST-MODIFIED:20260419T212412Z
UID:10000562-1846933200-1846940400@iueclocal19.org
SUMMARY:Local 19 Joint Apprenticeship Committee
DESCRIPTION:
URL:https://iueclocal19.org/event/local-19-joint-apprenticeship-committee/2028-07-11/
CATEGORIES:default
END:VEVENT
BEGIN:VEVENT
DTSTART;TZID=UTC:20280711T173000
DTEND;TZID=UTC:20280711T203000
DTSTAMP:20260425T105916
CREATED:20260419T211934Z
LAST-MODIFIED:20260419T211934Z
UID:10000502-1846949400-1846960200@iueclocal19.org
SUMMARY:Seattle Union Meeting
DESCRIPTION:
URL:https://iueclocal19.org/event/seattle-union-meeting/2028-07-11/
CATEGORIES:default
END:VEVENT
BEGIN:VEVENT
DTSTART;TZID=UTC:20280801T170000
DTEND;TZID=UTC:20280801T200000
DTSTAMP:20260425T105916
CREATED:20260419T211817Z
LAST-MODIFIED:20260419T211817Z
UID:10000443-1848762000-1848772800@iueclocal19.org
SUMMARY:Executive Board Meeting
DESCRIPTION:
URL:https://iueclocal19.org/event/executive-board-meeting-4/2028-08-01/
CATEGORIES:default
END:VEVENT
BEGIN:VEVENT
DTSTART;TZID=UTC:20280808T130000
DTEND;TZID=UTC:20280808T150000
DTSTAMP:20260425T105916
CREATED:20260419T212412Z
LAST-MODIFIED:20260419T212412Z
UID:10000563-1849352400-1849359600@iueclocal19.org
SUMMARY:Local 19 Joint Apprenticeship Committee
DESCRIPTION:
URL:https://iueclocal19.org/event/local-19-joint-apprenticeship-committee/2028-08-08/
CATEGORIES:default
END:VEVENT
END:VCALENDAR