BEGIN:VCALENDAR
VERSION:2.0
PRODID:-//Local 19 - ECPv6.15.18//NONSGML v1.0//EN
CALSCALE:GREGORIAN
METHOD:PUBLISH
X-WR-CALNAME:Local 19
X-ORIGINAL-URL:https://iueclocal19.org
X-WR-CALDESC:Events for Local 19
REFRESH-INTERVAL;VALUE=DURATION:PT1H
X-Robots-Tag:noindex
X-PUBLISHED-TTL:PT1H
BEGIN:VTIMEZONE
TZID:UTC
BEGIN:STANDARD
TZOFFSETFROM:+0000
TZOFFSETTO:+0000
TZNAME:UTC
DTSTART:20260101T000000
END:STANDARD
END:VTIMEZONE
BEGIN:VEVENT
DTSTART;TZID=UTC:20270209T173000
DTEND;TZID=UTC:20270209T203000
DTSTAMP:20260425T105844
CREATED:20260419T211934Z
LAST-MODIFIED:20260419T211934Z
UID:10000485-1802194200-1802205000@iueclocal19.org
SUMMARY:Seattle Union Meeting
DESCRIPTION:
URL:https://iueclocal19.org/event/seattle-union-meeting/2027-02-09/
CATEGORIES:default
END:VEVENT
BEGIN:VEVENT
DTSTART;TZID=UTC:20270302T170000
DTEND;TZID=UTC:20270302T200000
DTSTAMP:20260425T105844
CREATED:20260419T211817Z
LAST-MODIFIED:20260419T211817Z
UID:10000426-1804006800-1804017600@iueclocal19.org
SUMMARY:Executive Board Meeting
DESCRIPTION:
URL:https://iueclocal19.org/event/executive-board-meeting-4/2027-03-02/
CATEGORIES:default
END:VEVENT
BEGIN:VEVENT
DTSTART;TZID=UTC:20270309T130000
DTEND;TZID=UTC:20270309T150000
DTSTAMP:20260425T105844
CREATED:20260419T212412Z
LAST-MODIFIED:20260419T212412Z
UID:10000546-1804597200-1804604400@iueclocal19.org
SUMMARY:Local 19 Joint Apprenticeship Committee
DESCRIPTION:
URL:https://iueclocal19.org/event/local-19-joint-apprenticeship-committee/2027-03-09/
CATEGORIES:default
END:VEVENT
BEGIN:VEVENT
DTSTART;TZID=UTC:20270309T173000
DTEND;TZID=UTC:20270309T203000
DTSTAMP:20260425T105844
CREATED:20260419T211934Z
LAST-MODIFIED:20260419T211934Z
UID:10000486-1804613400-1804624200@iueclocal19.org
SUMMARY:Seattle Union Meeting
DESCRIPTION:
URL:https://iueclocal19.org/event/seattle-union-meeting/2027-03-09/
CATEGORIES:default
END:VEVENT
BEGIN:VEVENT
DTSTART;TZID=UTC:20270406T170000
DTEND;TZID=UTC:20270406T200000
DTSTAMP:20260425T105844
CREATED:20260419T211817Z
LAST-MODIFIED:20260419T211817Z
UID:10000427-1807030800-1807041600@iueclocal19.org
SUMMARY:Executive Board Meeting
DESCRIPTION:
URL:https://iueclocal19.org/event/executive-board-meeting-4/2027-04-06/
CATEGORIES:default
END:VEVENT
BEGIN:VEVENT
DTSTART;TZID=UTC:20270413T130000
DTEND;TZID=UTC:20270413T150000
DTSTAMP:20260425T105844
CREATED:20260419T212412Z
LAST-MODIFIED:20260419T212412Z
UID:10000547-1807621200-1807628400@iueclocal19.org
SUMMARY:Local 19 Joint Apprenticeship Committee
DESCRIPTION:
URL:https://iueclocal19.org/event/local-19-joint-apprenticeship-committee/2027-04-13/
CATEGORIES:default
END:VEVENT
BEGIN:VEVENT
DTSTART;TZID=UTC:20270413T173000
DTEND;TZID=UTC:20270413T203000
DTSTAMP:20260425T105844
CREATED:20260419T211934Z
LAST-MODIFIED:20260419T211934Z
UID:10000487-1807637400-1807648200@iueclocal19.org
SUMMARY:Seattle Union Meeting
DESCRIPTION:
URL:https://iueclocal19.org/event/seattle-union-meeting/2027-04-13/
CATEGORIES:default
END:VEVENT
BEGIN:VEVENT
DTSTART;TZID=UTC:20270504T170000
DTEND;TZID=UTC:20270504T200000
DTSTAMP:20260425T105844
CREATED:20260419T211817Z
LAST-MODIFIED:20260419T211817Z
UID:10000428-1809450000-1809460800@iueclocal19.org
SUMMARY:Executive Board Meeting
DESCRIPTION:
URL:https://iueclocal19.org/event/executive-board-meeting-4/2027-05-04/
CATEGORIES:default
END:VEVENT
BEGIN:VEVENT
DTSTART;TZID=UTC:20270511T130000
DTEND;TZID=UTC:20270511T150000
DTSTAMP:20260425T105844
CREATED:20260419T212412Z
LAST-MODIFIED:20260419T212412Z
UID:10000548-1810040400-1810047600@iueclocal19.org
SUMMARY:Local 19 Joint Apprenticeship Committee
DESCRIPTION:
URL:https://iueclocal19.org/event/local-19-joint-apprenticeship-committee/2027-05-11/
CATEGORIES:default
END:VEVENT
BEGIN:VEVENT
DTSTART;TZID=UTC:20270511T173000
DTEND;TZID=UTC:20270511T203000
DTSTAMP:20260425T105844
CREATED:20260419T211934Z
LAST-MODIFIED:20260419T211934Z
UID:10000488-1810056600-1810067400@iueclocal19.org
SUMMARY:Seattle Union Meeting
DESCRIPTION:
URL:https://iueclocal19.org/event/seattle-union-meeting/2027-05-11/
CATEGORIES:default
END:VEVENT
BEGIN:VEVENT
DTSTART;TZID=UTC:20270601T170000
DTEND;TZID=UTC:20270601T200000
DTSTAMP:20260425T105844
CREATED:20260419T211817Z
LAST-MODIFIED:20260419T211817Z
UID:10000429-1811869200-1811880000@iueclocal19.org
SUMMARY:Executive Board Meeting
DESCRIPTION:
URL:https://iueclocal19.org/event/executive-board-meeting-4/2027-06-01/
CATEGORIES:default
END:VEVENT
BEGIN:VEVENT
DTSTART;TZID=UTC:20270608T130000
DTEND;TZID=UTC:20270608T150000
DTSTAMP:20260425T105844
CREATED:20260419T212412Z
LAST-MODIFIED:20260419T212412Z
UID:10000549-1812459600-1812466800@iueclocal19.org
SUMMARY:Local 19 Joint Apprenticeship Committee
DESCRIPTION:
URL:https://iueclocal19.org/event/local-19-joint-apprenticeship-committee/2027-06-08/
CATEGORIES:default
END:VEVENT
BEGIN:VEVENT
DTSTART;TZID=UTC:20270608T173000
DTEND;TZID=UTC:20270608T203000
DTSTAMP:20260425T105844
CREATED:20260419T211934Z
LAST-MODIFIED:20260419T211934Z
UID:10000489-1812475800-1812486600@iueclocal19.org
SUMMARY:Seattle Union Meeting
DESCRIPTION:
URL:https://iueclocal19.org/event/seattle-union-meeting/2027-06-08/
CATEGORIES:default
END:VEVENT
BEGIN:VEVENT
DTSTART;TZID=UTC:20270706T170000
DTEND;TZID=UTC:20270706T200000
DTSTAMP:20260425T105844
CREATED:20260419T211817Z
LAST-MODIFIED:20260419T211817Z
UID:10000430-1814893200-1814904000@iueclocal19.org
SUMMARY:Executive Board Meeting
DESCRIPTION:
URL:https://iueclocal19.org/event/executive-board-meeting-4/2027-07-06/
CATEGORIES:default
END:VEVENT
BEGIN:VEVENT
DTSTART;TZID=UTC:20270713T130000
DTEND;TZID=UTC:20270713T150000
DTSTAMP:20260425T105844
CREATED:20260419T212412Z
LAST-MODIFIED:20260419T212412Z
UID:10000550-1815483600-1815490800@iueclocal19.org
SUMMARY:Local 19 Joint Apprenticeship Committee
DESCRIPTION:
URL:https://iueclocal19.org/event/local-19-joint-apprenticeship-committee/2027-07-13/
CATEGORIES:default
END:VEVENT
BEGIN:VEVENT
DTSTART;TZID=UTC:20270713T173000
DTEND;TZID=UTC:20270713T203000
DTSTAMP:20260425T105844
CREATED:20260419T211934Z
LAST-MODIFIED:20260419T211934Z
UID:10000490-1815499800-1815510600@iueclocal19.org
SUMMARY:Seattle Union Meeting
DESCRIPTION:
URL:https://iueclocal19.org/event/seattle-union-meeting/2027-07-13/
CATEGORIES:default
END:VEVENT
BEGIN:VEVENT
DTSTART;TZID=UTC:20270803T170000
DTEND;TZID=UTC:20270803T200000
DTSTAMP:20260425T105844
CREATED:20260419T211817Z
LAST-MODIFIED:20260419T211817Z
UID:10000431-1817312400-1817323200@iueclocal19.org
SUMMARY:Executive Board Meeting
DESCRIPTION:
URL:https://iueclocal19.org/event/executive-board-meeting-4/2027-08-03/
CATEGORIES:default
END:VEVENT
BEGIN:VEVENT
DTSTART;TZID=UTC:20270810T130000
DTEND;TZID=UTC:20270810T150000
DTSTAMP:20260425T105844
CREATED:20260419T212412Z
LAST-MODIFIED:20260419T212412Z
UID:10000551-1817902800-1817910000@iueclocal19.org
SUMMARY:Local 19 Joint Apprenticeship Committee
DESCRIPTION:
URL:https://iueclocal19.org/event/local-19-joint-apprenticeship-committee/2027-08-10/
CATEGORIES:default
END:VEVENT
BEGIN:VEVENT
DTSTART;TZID=UTC:20270810T173000
DTEND;TZID=UTC:20270810T203000
DTSTAMP:20260425T105844
CREATED:20260419T211934Z
LAST-MODIFIED:20260419T211934Z
UID:10000491-1817919000-1817929800@iueclocal19.org
SUMMARY:Seattle Union Meeting
DESCRIPTION:
URL:https://iueclocal19.org/event/seattle-union-meeting/2027-08-10/
CATEGORIES:default
END:VEVENT
BEGIN:VEVENT
DTSTART;TZID=UTC:20270907T170000
DTEND;TZID=UTC:20270907T200000
DTSTAMP:20260425T105844
CREATED:20260419T211817Z
LAST-MODIFIED:20260419T211817Z
UID:10000432-1820336400-1820347200@iueclocal19.org
SUMMARY:Executive Board Meeting
DESCRIPTION:
URL:https://iueclocal19.org/event/executive-board-meeting-4/2027-09-07/
CATEGORIES:default
END:VEVENT
BEGIN:VEVENT
DTSTART;TZID=UTC:20270914T130000
DTEND;TZID=UTC:20270914T150000
DTSTAMP:20260425T105844
CREATED:20260419T212412Z
LAST-MODIFIED:20260419T212412Z
UID:10000552-1820926800-1820934000@iueclocal19.org
SUMMARY:Local 19 Joint Apprenticeship Committee
DESCRIPTION:
URL:https://iueclocal19.org/event/local-19-joint-apprenticeship-committee/2027-09-14/
CATEGORIES:default
END:VEVENT
BEGIN:VEVENT
DTSTART;TZID=UTC:20270914T173000
DTEND;TZID=UTC:20270914T203000
DTSTAMP:20260425T105844
CREATED:20260419T211934Z
LAST-MODIFIED:20260419T211934Z
UID:10000492-1820943000-1820953800@iueclocal19.org
SUMMARY:Seattle Union Meeting
DESCRIPTION:
URL:https://iueclocal19.org/event/seattle-union-meeting/2027-09-14/
CATEGORIES:default
END:VEVENT
BEGIN:VEVENT
DTSTART;TZID=UTC:20271005T170000
DTEND;TZID=UTC:20271005T200000
DTSTAMP:20260425T105844
CREATED:20260419T211817Z
LAST-MODIFIED:20260419T211817Z
UID:10000433-1822755600-1822766400@iueclocal19.org
SUMMARY:Executive Board Meeting
DESCRIPTION:
URL:https://iueclocal19.org/event/executive-board-meeting-4/2027-10-05/
CATEGORIES:default
END:VEVENT
BEGIN:VEVENT
DTSTART;TZID=UTC:20271012T130000
DTEND;TZID=UTC:20271012T150000
DTSTAMP:20260425T105844
CREATED:20260419T212412Z
LAST-MODIFIED:20260419T212412Z
UID:10000553-1823346000-1823353200@iueclocal19.org
SUMMARY:Local 19 Joint Apprenticeship Committee
DESCRIPTION:
URL:https://iueclocal19.org/event/local-19-joint-apprenticeship-committee/2027-10-12/
CATEGORIES:default
END:VEVENT
BEGIN:VEVENT
DTSTART;TZID=UTC:20271012T173000
DTEND;TZID=UTC:20271012T203000
DTSTAMP:20260425T105844
CREATED:20260419T211934Z
LAST-MODIFIED:20260419T211934Z
UID:10000493-1823362200-1823373000@iueclocal19.org
SUMMARY:Seattle Union Meeting
DESCRIPTION:
URL:https://iueclocal19.org/event/seattle-union-meeting/2027-10-12/
CATEGORIES:default
END:VEVENT
BEGIN:VEVENT
DTSTART;TZID=UTC:20271102T170000
DTEND;TZID=UTC:20271102T200000
DTSTAMP:20260425T105844
CREATED:20260419T211817Z
LAST-MODIFIED:20260419T211817Z
UID:10000434-1825174800-1825185600@iueclocal19.org
SUMMARY:Executive Board Meeting
DESCRIPTION:
URL:https://iueclocal19.org/event/executive-board-meeting-4/2027-11-02/
CATEGORIES:default
END:VEVENT
BEGIN:VEVENT
DTSTART;TZID=UTC:20271109T130000
DTEND;TZID=UTC:20271109T150000
DTSTAMP:20260425T105844
CREATED:20260419T212412Z
LAST-MODIFIED:20260419T212412Z
UID:10000554-1825765200-1825772400@iueclocal19.org
SUMMARY:Local 19 Joint Apprenticeship Committee
DESCRIPTION:
URL:https://iueclocal19.org/event/local-19-joint-apprenticeship-committee/2027-11-09/
CATEGORIES:default
END:VEVENT
BEGIN:VEVENT
DTSTART;TZID=UTC:20271109T173000
DTEND;TZID=UTC:20271109T203000
DTSTAMP:20260425T105844
CREATED:20260419T211934Z
LAST-MODIFIED:20260419T211934Z
UID:10000494-1825781400-1825792200@iueclocal19.org
SUMMARY:Seattle Union Meeting
DESCRIPTION:
URL:https://iueclocal19.org/event/seattle-union-meeting/2027-11-09/
CATEGORIES:default
END:VEVENT
BEGIN:VEVENT
DTSTART;TZID=UTC:20271207T170000
DTEND;TZID=UTC:20271207T200000
DTSTAMP:20260425T105844
CREATED:20260419T211817Z
LAST-MODIFIED:20260419T211817Z
UID:10000435-1828198800-1828209600@iueclocal19.org
SUMMARY:Executive Board Meeting
DESCRIPTION:
URL:https://iueclocal19.org/event/executive-board-meeting-4/2027-12-07/
CATEGORIES:default
END:VEVENT
BEGIN:VEVENT
DTSTART;TZID=UTC:20271214T130000
DTEND;TZID=UTC:20271214T150000
DTSTAMP:20260425T105844
CREATED:20260419T212412Z
LAST-MODIFIED:20260419T212412Z
UID:10000555-1828789200-1828796400@iueclocal19.org
SUMMARY:Local 19 Joint Apprenticeship Committee
DESCRIPTION:
URL:https://iueclocal19.org/event/local-19-joint-apprenticeship-committee/2027-12-14/
CATEGORIES:default
END:VEVENT
END:VCALENDAR