BEGIN:VCALENDAR
VERSION:2.0
PRODID:-//Local 19 - ECPv6.15.18//NONSGML v1.0//EN
CALSCALE:GREGORIAN
METHOD:PUBLISH
X-WR-CALNAME:Local 19
X-ORIGINAL-URL:https://iueclocal19.org
X-WR-CALDESC:Events for Local 19
REFRESH-INTERVAL;VALUE=DURATION:PT1H
X-Robots-Tag:noindex
X-PUBLISHED-TTL:PT1H
BEGIN:VTIMEZONE
TZID:UTC
BEGIN:STANDARD
TZOFFSETFROM:+0000
TZOFFSETTO:+0000
TZNAME:UTC
DTSTART:20240101T000000
END:STANDARD
END:VTIMEZONE
BEGIN:VEVENT
DTSTART;TZID=UTC:20250503T170000
DTEND;TZID=UTC:20250503T210000
DTSTAMP:20260425T111351
CREATED:20250327T080542Z
LAST-MODIFIED:20250327T080542Z
UID:10000366-1746291600-1746306000@iueclocal19.org
SUMMARY:Union Sportsmen Alliance Dinner
DESCRIPTION:
URL:https://iueclocal19.org/event/union-sportsmen-alliance-dinner/
CATEGORIES:default
END:VEVENT
BEGIN:VEVENT
DTSTART;TZID=UTC:20250426T110000
DTEND;TZID=UTC:20250426T160000
DTSTAMP:20260425T111351
CREATED:20250327T080449Z
LAST-MODIFIED:20250327T080449Z
UID:10000365-1745665200-1745683200@iueclocal19.org
SUMMARY:Local 19 Spokane Veteran’s Committee BBQ
DESCRIPTION:
URL:https://iueclocal19.org/event/local-19-spokane-veterans-committee-bbq/
CATEGORIES:default
END:VEVENT
BEGIN:VEVENT
DTSTART;TZID=UTC:20250426T063000
DTEND;TZID=UTC:20250426T170000
DTSTAMP:20260425T111351
CREATED:20250327T080630Z
LAST-MODIFIED:20250327T080630Z
UID:10000367-1745649000-1745686800@iueclocal19.org
SUMMARY:Local 140 Michael F. Coyne Jr. Golf Tournament
DESCRIPTION:
URL:https://iueclocal19.org/event/local-140-michael-f-coyne-jr-golf-tournament/
CATEGORIES:default
END:VEVENT
BEGIN:VEVENT
DTSTART;TZID=UTC:20250415T170000
DTEND;TZID=UTC:20250415T180000
DTSTAMP:20260425T111351
CREATED:20250327T075533Z
LAST-MODIFIED:20250327T075533Z
UID:10000352-1744736400-1744740000@iueclocal19.org
SUMMARY:Veteran Assistance Program Committee Meeting
DESCRIPTION:
URL:https://iueclocal19.org/event/veteran-assistance-program-committee-meeting/2025-04-15/
CATEGORIES:default
END:VEVENT
BEGIN:VEVENT
DTSTART;TZID=UTC:20250408T173000
DTEND;TZID=UTC:20250408T183000
DTSTAMP:20260425T111351
CREATED:20250327T075327Z
LAST-MODIFIED:20250327T075327Z
UID:10000340-1744133400-1744137000@iueclocal19.org
SUMMARY:Union Meeting
DESCRIPTION:
URL:https://iueclocal19.org/event/union-meeting/2025-04-08/
CATEGORIES:default
END:VEVENT
BEGIN:VEVENT
DTSTART;TZID=UTC:20250406T080000
DTEND;TZID=UTC:20250409T170000
DTSTAMP:20260425T111351
CREATED:20250327T080842Z
LAST-MODIFIED:20250327T080842Z
UID:10000369-1743926400-1744218000@iueclocal19.org
SUMMARY:NABTU Legislative Conference
DESCRIPTION:
URL:https://iueclocal19.org/event/nabtu-legislative-conference/
CATEGORIES:default
END:VEVENT
BEGIN:VEVENT
DTSTART;TZID=UTC:20250401T170000
DTEND;TZID=UTC:20250401T180000
DTSTAMP:20260425T111351
CREATED:20250327T074557Z
LAST-MODIFIED:20250327T074557Z
UID:10000328-1743526800-1743530400@iueclocal19.org
SUMMARY:Executive Board Meeting
DESCRIPTION:
URL:https://iueclocal19.org/event/executive-board-meeting/2025-04-01/
CATEGORIES:default
END:VEVENT
END:VCALENDAR