BEGIN:VCALENDAR
VERSION:2.0
PRODID:-//Local 19 - ECPv6.15.18//NONSGML v1.0//EN
CALSCALE:GREGORIAN
METHOD:PUBLISH
X-WR-CALNAME:Local 19
X-ORIGINAL-URL:https://iueclocal19.org
X-WR-CALDESC:Events for Local 19
REFRESH-INTERVAL;VALUE=DURATION:PT1H
X-Robots-Tag:noindex
X-PUBLISHED-TTL:PT1H
BEGIN:VTIMEZONE
TZID:UTC
BEGIN:STANDARD
TZOFFSETFROM:+0000
TZOFFSETTO:+0000
TZNAME:UTC
DTSTART:20240101T000000
END:STANDARD
END:VTIMEZONE
BEGIN:VEVENT
DTSTART;TZID=UTC:20260113T173000
DTEND;TZID=UTC:20260113T173000
DTSTAMP:20260425T020835
CREATED:20250708T075741Z
LAST-MODIFIED:20251031T133546Z
UID:10000349-1768325400-1768325400@iueclocal19.org
SUMMARY:Union Meeting
DESCRIPTION:
URL:https://iueclocal19.org/event/union-meeting-2/2026-01-13/
CATEGORIES:default
END:VEVENT
BEGIN:VEVENT
DTSTART;TZID=UTC:20260108T080000
DTEND;TZID=UTC:20260108T080000
DTSTAMP:20260425T020835
CREATED:20251031T134221Z
LAST-MODIFIED:20251103T171350Z
UID:10000381-1767859200-1767859200@iueclocal19.org
SUMMARY:OSHA 30 Training
DESCRIPTION:Local 19 is pleased to announce that EIWPF will hold a four-day\, 30-hour OSHA 30 class in Seattle the week of January 5\, 2026. \nSchedule: Monday–Thursday\, 30 hours total \nCost: Free; books and equipment provided by EIWPF \nMax Class Size: 25 members \nRegistration: Call the Local’s Business Agents to be added to the list \nAdditional Notes: If interest exceeds the class limit\, additional sessions will be scheduled. Recertification classes will also be offered. Members must take all four days off work to attend. \nQuestions: Call the hall at (206) 282-4885
URL:https://iueclocal19.org/event/osha-30-training/2026-01-08/
END:VEVENT
BEGIN:VEVENT
DTSTART;TZID=UTC:20260107T080000
DTEND;TZID=UTC:20260107T080000
DTSTAMP:20260425T020835
CREATED:20251031T134221Z
LAST-MODIFIED:20251103T171350Z
UID:10000380-1767772800-1767772800@iueclocal19.org
SUMMARY:OSHA 30 Training
DESCRIPTION:Local 19 is pleased to announce that EIWPF will hold a four-day\, 30-hour OSHA 30 class in Seattle the week of January 5\, 2026. \nSchedule: Monday–Thursday\, 30 hours total \nCost: Free; books and equipment provided by EIWPF \nMax Class Size: 25 members \nRegistration: Call the Local’s Business Agents to be added to the list \nAdditional Notes: If interest exceeds the class limit\, additional sessions will be scheduled. Recertification classes will also be offered. Members must take all four days off work to attend. \nQuestions: Call the hall at (206) 282-4885
URL:https://iueclocal19.org/event/osha-30-training/2026-01-07/
END:VEVENT
BEGIN:VEVENT
DTSTART;TZID=UTC:20260106T170000
DTEND;TZID=UTC:20260106T170000
DTSTAMP:20260425T020835
CREATED:20250708T075435Z
LAST-MODIFIED:20250708T075435Z
UID:10000337-1767718800-1767718800@iueclocal19.org
SUMMARY:Executive Board Meeting
DESCRIPTION:
URL:https://iueclocal19.org/event/executive-board-meeting-2/2026-01-06/
CATEGORIES:default
END:VEVENT
BEGIN:VEVENT
DTSTART;TZID=UTC:20260106T080000
DTEND;TZID=UTC:20260106T080000
DTSTAMP:20260425T020835
CREATED:20251031T134221Z
LAST-MODIFIED:20251103T171350Z
UID:10000379-1767686400-1767686400@iueclocal19.org
SUMMARY:OSHA 30 Training
DESCRIPTION:Local 19 is pleased to announce that EIWPF will hold a four-day\, 30-hour OSHA 30 class in Seattle the week of January 5\, 2026. \nSchedule: Monday–Thursday\, 30 hours total \nCost: Free; books and equipment provided by EIWPF \nMax Class Size: 25 members \nRegistration: Call the Local’s Business Agents to be added to the list \nAdditional Notes: If interest exceeds the class limit\, additional sessions will be scheduled. Recertification classes will also be offered. Members must take all four days off work to attend. \nQuestions: Call the hall at (206) 282-4885
URL:https://iueclocal19.org/event/osha-30-training/2026-01-06/
END:VEVENT
BEGIN:VEVENT
DTSTART;TZID=UTC:20260105T080000
DTEND;TZID=UTC:20260105T080000
DTSTAMP:20260425T020835
CREATED:20251031T134221Z
LAST-MODIFIED:20251103T171350Z
UID:10000378-1767600000-1767600000@iueclocal19.org
SUMMARY:OSHA 30 Training
DESCRIPTION:Local 19 is pleased to announce that EIWPF will hold a four-day\, 30-hour OSHA 30 class in Seattle the week of January 5\, 2026. \nSchedule: Monday–Thursday\, 30 hours total \nCost: Free; books and equipment provided by EIWPF \nMax Class Size: 25 members \nRegistration: Call the Local’s Business Agents to be added to the list \nAdditional Notes: If interest exceeds the class limit\, additional sessions will be scheduled. Recertification classes will also be offered. Members must take all four days off work to attend. \nQuestions: Call the hall at (206) 282-4885
URL:https://iueclocal19.org/event/osha-30-training/2026-01-05/
END:VEVENT
BEGIN:VEVENT
DTSTART;TZID=UTC:20251216T173000
DTEND;TZID=UTC:20251216T173000
DTSTAMP:20260425T020835
CREATED:20250708T075741Z
LAST-MODIFIED:20251031T133546Z
UID:10000377-1765906200-1765906200@iueclocal19.org
SUMMARY:Union Meeting
DESCRIPTION:
URL:https://iueclocal19.org/event/union-meeting-2/2025-12-16/
CATEGORIES:default
END:VEVENT
BEGIN:VEVENT
DTSTART;TZID=UTC:20251216T170000
DTEND;TZID=UTC:20251216T170000
DTSTAMP:20260425T020835
CREATED:20250708T075758Z
LAST-MODIFIED:20250708T075759Z
UID:10000360-1765904400-1765904400@iueclocal19.org
SUMMARY:Veteran Assistance Program Committee Meeting
DESCRIPTION:
URL:https://iueclocal19.org/event/veteran-assistance-program-committee-meeting-2/2025-12-16/
CATEGORIES:default
END:VEVENT
BEGIN:VEVENT
DTSTART;TZID=UTC:20251202T170000
DTEND;TZID=UTC:20251202T170000
DTSTAMP:20260425T020835
CREATED:20250708T075435Z
LAST-MODIFIED:20250708T075435Z
UID:10000336-1764694800-1764694800@iueclocal19.org
SUMMARY:Executive Board Meeting
DESCRIPTION:
URL:https://iueclocal19.org/event/executive-board-meeting-2/2025-12-02/
CATEGORIES:default
END:VEVENT
BEGIN:VEVENT
DTSTART;TZID=UTC:20251118T173000
DTEND;TZID=UTC:20251118T173000
DTSTAMP:20260425T020835
CREATED:20250708T075741Z
LAST-MODIFIED:20251031T133546Z
UID:10000376-1763487000-1763487000@iueclocal19.org
SUMMARY:Union Meeting
DESCRIPTION:
URL:https://iueclocal19.org/event/union-meeting-2/2025-11-18/
CATEGORIES:default
END:VEVENT
BEGIN:VEVENT
DTSTART;TZID=UTC:20251118T170000
DTEND;TZID=UTC:20251118T170000
DTSTAMP:20260425T020835
CREATED:20250708T075758Z
LAST-MODIFIED:20250708T075759Z
UID:10000359-1763485200-1763485200@iueclocal19.org
SUMMARY:Veteran Assistance Program Committee Meeting
DESCRIPTION:
URL:https://iueclocal19.org/event/veteran-assistance-program-committee-meeting-2/2025-11-18/
CATEGORIES:default
END:VEVENT
BEGIN:VEVENT
DTSTART;TZID=UTC:20251104T170000
DTEND;TZID=UTC:20251104T170000
DTSTAMP:20260425T020835
CREATED:20250708T075435Z
LAST-MODIFIED:20250708T075435Z
UID:10000335-1762275600-1762275600@iueclocal19.org
SUMMARY:Executive Board Meeting
DESCRIPTION:
URL:https://iueclocal19.org/event/executive-board-meeting-2/2025-11-04/
CATEGORIES:default
END:VEVENT
BEGIN:VEVENT
DTSTART;TZID=UTC:20251021T170000
DTEND;TZID=UTC:20251021T170000
DTSTAMP:20260425T020835
CREATED:20250708T075758Z
LAST-MODIFIED:20250708T075759Z
UID:10000358-1761066000-1761066000@iueclocal19.org
SUMMARY:Veteran Assistance Program Committee Meeting
DESCRIPTION:
URL:https://iueclocal19.org/event/veteran-assistance-program-committee-meeting-2/2025-10-21/
CATEGORIES:default
END:VEVENT
BEGIN:VEVENT
DTSTART;TZID=UTC:20251014T173000
DTEND;TZID=UTC:20251014T173000
DTSTAMP:20260425T020835
CREATED:20250708T075741Z
LAST-MODIFIED:20251031T133546Z
UID:10000346-1760463000-1760463000@iueclocal19.org
SUMMARY:Union Meeting
DESCRIPTION:
URL:https://iueclocal19.org/event/union-meeting-2/2025-10-14/
CATEGORIES:default
END:VEVENT
BEGIN:VEVENT
DTSTART;TZID=UTC:20251007T170000
DTEND;TZID=UTC:20251007T170000
DTSTAMP:20260425T020835
CREATED:20250708T075435Z
LAST-MODIFIED:20250708T075435Z
UID:10000334-1759856400-1759856400@iueclocal19.org
SUMMARY:Executive Board Meeting
DESCRIPTION:
URL:https://iueclocal19.org/event/executive-board-meeting-2/2025-10-07/
CATEGORIES:default
END:VEVENT
BEGIN:VEVENT
DTSTART;TZID=UTC:20250919T080000
DTEND;TZID=UTC:20250921T170000
DTSTAMP:20260425T020835
CREATED:20250327T080941Z
LAST-MODIFIED:20250327T080941Z
UID:10000370-1758268800-1758474000@iueclocal19.org
SUMMARY:NABTU Tradeswomen Build Nations Conference
DESCRIPTION:
URL:https://iueclocal19.org/event/nabtu-tradeswomen-build-nations-conference/
CATEGORIES:default
END:VEVENT
BEGIN:VEVENT
DTSTART;VALUE=DATE:20250919
DTEND;VALUE=DATE:20250921
DTSTAMP:20260425T020835
CREATED:20250619T120941Z
LAST-MODIFIED:20250707T165047Z
UID:10000371-1758265200-1758351599@iueclocal19.org
SUMMARY:Retiree's Luncheon
DESCRIPTION:
URL:https://iueclocal19.org/event/retirees-luncheon/
CATEGORIES:default
END:VEVENT
BEGIN:VEVENT
DTSTART;TZID=UTC:20250916T170000
DTEND;TZID=UTC:20250916T170000
DTSTAMP:20260425T020835
CREATED:20250708T075758Z
LAST-MODIFIED:20250708T075759Z
UID:10000357-1758042000-1758042000@iueclocal19.org
SUMMARY:Veteran Assistance Program Committee Meeting
DESCRIPTION:
URL:https://iueclocal19.org/event/veteran-assistance-program-committee-meeting-2/2025-09-16/
CATEGORIES:default
END:VEVENT
BEGIN:VEVENT
DTSTART;TZID=UTC:20250909T173000
DTEND;TZID=UTC:20250909T173000
DTSTAMP:20260425T020835
CREATED:20250708T075741Z
LAST-MODIFIED:20251031T133546Z
UID:10000345-1757439000-1757439000@iueclocal19.org
SUMMARY:Union Meeting
DESCRIPTION:
URL:https://iueclocal19.org/event/union-meeting-2/2025-09-09/
CATEGORIES:default
END:VEVENT
BEGIN:VEVENT
DTSTART;VALUE=DATE:20250908
DTEND;VALUE=DATE:20250913
DTSTAMP:20260425T020835
CREATED:20250619T121316Z
LAST-MODIFIED:20250619T132257Z
UID:10000374-1757314800-1757660399@iueclocal19.org
SUMMARY:Washington State Building Construction Labor Council Convention
DESCRIPTION:
URL:https://iueclocal19.org/event/washington-state-building-construction-labor-council-convention/
CATEGORIES:default
END:VEVENT
BEGIN:VEVENT
DTSTART;TZID=UTC:20250902T170000
DTEND;TZID=UTC:20250902T170000
DTSTAMP:20260425T020835
CREATED:20250708T075435Z
LAST-MODIFIED:20250708T075435Z
UID:10000333-1756832400-1756832400@iueclocal19.org
SUMMARY:Executive Board Meeting
DESCRIPTION:
URL:https://iueclocal19.org/event/executive-board-meeting-2/2025-09-02/
CATEGORIES:default
END:VEVENT
BEGIN:VEVENT
DTSTART;TZID=UTC:20250819T170000
DTEND;TZID=UTC:20250819T170000
DTSTAMP:20260425T020835
CREATED:20250708T075758Z
LAST-MODIFIED:20250708T075759Z
UID:10000356-1755622800-1755622800@iueclocal19.org
SUMMARY:Veteran Assistance Program Committee Meeting
DESCRIPTION:
URL:https://iueclocal19.org/event/veteran-assistance-program-committee-meeting-2/2025-08-19/
CATEGORIES:default
END:VEVENT
BEGIN:VEVENT
DTSTART;TZID=UTC:20250812T173000
DTEND;TZID=UTC:20250812T173000
DTSTAMP:20260425T020835
CREATED:20250708T075741Z
LAST-MODIFIED:20251031T133546Z
UID:10000344-1755019800-1755019800@iueclocal19.org
SUMMARY:Union Meeting
DESCRIPTION:
URL:https://iueclocal19.org/event/union-meeting-2/2025-08-12/
CATEGORIES:default
END:VEVENT
BEGIN:VEVENT
DTSTART;TZID=UTC:20250809T130000
DTEND;TZID=UTC:20250809T170000
DTSTAMP:20260425T020835
CREATED:20250327T080045Z
LAST-MODIFIED:20250708T074441Z
UID:10000364-1754744400-1754758800@iueclocal19.org
SUMMARY:Local 19 Seattle BBQ
DESCRIPTION:
URL:https://iueclocal19.org/event/local-19-seattle-bbq/
CATEGORIES:default
END:VEVENT
BEGIN:VEVENT
DTSTART;VALUE=DATE:20250807
DTEND;VALUE=DATE:20250809
DTSTAMP:20260425T020835
CREATED:20250619T121114Z
LAST-MODIFIED:20250619T125620Z
UID:10000372-1754550000-1754636399@iueclocal19.org
SUMMARY:Union Solidarity Night at the AquaSox
DESCRIPTION:
URL:https://iueclocal19.org/event/union-solidarity-night-at-the-aquasox/
LOCATION:AquaSox
CATEGORIES:default
END:VEVENT
BEGIN:VEVENT
DTSTART;TZID=UTC:20250805T170000
DTEND;TZID=UTC:20250805T170000
DTSTAMP:20260425T020835
CREATED:20250708T075435Z
LAST-MODIFIED:20250708T075435Z
UID:10000332-1754413200-1754413200@iueclocal19.org
SUMMARY:Executive Board Meeting
DESCRIPTION:
URL:https://iueclocal19.org/event/executive-board-meeting-2/2025-08-05/
CATEGORIES:default
END:VEVENT
BEGIN:VEVENT
DTSTART;VALUE=DATE:20250725
DTEND;VALUE=DATE:20250729
DTSTAMP:20260425T020835
CREATED:20250619T122350Z
LAST-MODIFIED:20250619T132338Z
UID:10000375-1753426800-1753685999@iueclocal19.org
SUMMARY:Montana Picnic
DESCRIPTION:
URL:https://iueclocal19.org/event/montana-picnic/
CATEGORIES:default
END:VEVENT
BEGIN:VEVENT
DTSTART;VALUE=DATE:20250721
DTEND;VALUE=DATE:20250726
DTSTAMP:20260425T020835
CREATED:20250619T121217Z
LAST-MODIFIED:20250619T132233Z
UID:10000373-1753081200-1753426799@iueclocal19.org
SUMMARY:Washington State Labor Council Convention
DESCRIPTION:
URL:https://iueclocal19.org/event/washington-state-labor-council-convention/
CATEGORIES:default
END:VEVENT
BEGIN:VEVENT
DTSTART;TZID=UTC:20250715T170000
DTEND;TZID=UTC:20250715T170000
DTSTAMP:20260425T020835
CREATED:20250708T075758Z
LAST-MODIFIED:20250708T075759Z
UID:10000355-1752598800-1752598800@iueclocal19.org
SUMMARY:Veteran Assistance Program Committee Meeting
DESCRIPTION:
URL:https://iueclocal19.org/event/veteran-assistance-program-committee-meeting-2/2025-07-15/
CATEGORIES:default
END:VEVENT
BEGIN:VEVENT
DTSTART;TZID=UTC:20250708T173000
DTEND;TZID=UTC:20250708T173000
DTSTAMP:20260425T020835
CREATED:20250708T075741Z
LAST-MODIFIED:20251031T133546Z
UID:10000343-1751995800-1751995800@iueclocal19.org
SUMMARY:Union Meeting
DESCRIPTION:
URL:https://iueclocal19.org/event/union-meeting-2/2025-07-08/
CATEGORIES:default
END:VEVENT
END:VCALENDAR