BEGIN:VCALENDAR
VERSION:2.0
PRODID:-//Local 19 - ECPv6.15.18//NONSGML v1.0//EN
CALSCALE:GREGORIAN
METHOD:PUBLISH
X-WR-CALNAME:Local 19
X-ORIGINAL-URL:https://iueclocal19.org
X-WR-CALDESC:Events for Local 19
REFRESH-INTERVAL;VALUE=DURATION:PT1H
X-Robots-Tag:noindex
X-PUBLISHED-TTL:PT1H
BEGIN:VTIMEZONE
TZID:UTC
BEGIN:STANDARD
TZOFFSETFROM:+0000
TZOFFSETTO:+0000
TZNAME:UTC
DTSTART:20280101T000000
END:STANDARD
END:VTIMEZONE
BEGIN:VEVENT
DTSTART;TZID=UTC:20291113T130000
DTEND;TZID=UTC:20291113T150000
DTSTAMP:20260425T163935
CREATED:20260419T212412Z
LAST-MODIFIED:20260419T212412Z
UID:10000578-1889269200-1889276400@iueclocal19.org
SUMMARY:Local 19 Joint Apprenticeship Committee
DESCRIPTION:
URL:https://iueclocal19.org/event/local-19-joint-apprenticeship-committee/2029-11-13/
CATEGORIES:default
END:VEVENT
BEGIN:VEVENT
DTSTART;TZID=UTC:20291113T173000
DTEND;TZID=UTC:20291113T203000
DTSTAMP:20260425T163935
CREATED:20260419T211934Z
LAST-MODIFIED:20260419T211934Z
UID:10000518-1889285400-1889296200@iueclocal19.org
SUMMARY:Seattle Union Meeting
DESCRIPTION:
URL:https://iueclocal19.org/event/seattle-union-meeting/2029-11-13/
CATEGORIES:default
END:VEVENT
BEGIN:VEVENT
DTSTART;TZID=UTC:20291204T170000
DTEND;TZID=UTC:20291204T200000
DTSTAMP:20260425T163935
CREATED:20260419T211817Z
LAST-MODIFIED:20260419T211817Z
UID:10000459-1891098000-1891108800@iueclocal19.org
SUMMARY:Executive Board Meeting
DESCRIPTION:
URL:https://iueclocal19.org/event/executive-board-meeting-4/2029-12-04/
CATEGORIES:default
END:VEVENT
BEGIN:VEVENT
DTSTART;TZID=UTC:20291211T130000
DTEND;TZID=UTC:20291211T150000
DTSTAMP:20260425T163935
CREATED:20260419T212412Z
LAST-MODIFIED:20260419T212412Z
UID:10000579-1891688400-1891695600@iueclocal19.org
SUMMARY:Local 19 Joint Apprenticeship Committee
DESCRIPTION:
URL:https://iueclocal19.org/event/local-19-joint-apprenticeship-committee/2029-12-11/
CATEGORIES:default
END:VEVENT
BEGIN:VEVENT
DTSTART;TZID=UTC:20291211T173000
DTEND;TZID=UTC:20291211T203000
DTSTAMP:20260425T163935
CREATED:20260419T211934Z
LAST-MODIFIED:20260419T211934Z
UID:10000519-1891704600-1891715400@iueclocal19.org
SUMMARY:Seattle Union Meeting
DESCRIPTION:
URL:https://iueclocal19.org/event/seattle-union-meeting/2029-12-11/
CATEGORIES:default
END:VEVENT
BEGIN:VEVENT
DTSTART;TZID=UTC:20300101T170000
DTEND;TZID=UTC:20300101T200000
DTSTAMP:20260425T163935
CREATED:20260419T211817Z
LAST-MODIFIED:20260419T211817Z
UID:10000460-1893517200-1893528000@iueclocal19.org
SUMMARY:Executive Board Meeting
DESCRIPTION:
URL:https://iueclocal19.org/event/executive-board-meeting-4/2030-01-01/
CATEGORIES:default
END:VEVENT
BEGIN:VEVENT
DTSTART;TZID=UTC:20300108T130000
DTEND;TZID=UTC:20300108T150000
DTSTAMP:20260425T163935
CREATED:20260419T212412Z
LAST-MODIFIED:20260419T212412Z
UID:10000580-1894107600-1894114800@iueclocal19.org
SUMMARY:Local 19 Joint Apprenticeship Committee
DESCRIPTION:
URL:https://iueclocal19.org/event/local-19-joint-apprenticeship-committee/2030-01-08/
CATEGORIES:default
END:VEVENT
BEGIN:VEVENT
DTSTART;TZID=UTC:20300108T173000
DTEND;TZID=UTC:20300108T203000
DTSTAMP:20260425T163935
CREATED:20260419T211934Z
LAST-MODIFIED:20260419T211934Z
UID:10000520-1894123800-1894134600@iueclocal19.org
SUMMARY:Seattle Union Meeting
DESCRIPTION:
URL:https://iueclocal19.org/event/seattle-union-meeting/2030-01-08/
CATEGORIES:default
END:VEVENT
BEGIN:VEVENT
DTSTART;TZID=UTC:20300205T170000
DTEND;TZID=UTC:20300205T200000
DTSTAMP:20260425T163935
CREATED:20260419T211817Z
LAST-MODIFIED:20260419T211817Z
UID:10000461-1896541200-1896552000@iueclocal19.org
SUMMARY:Executive Board Meeting
DESCRIPTION:
URL:https://iueclocal19.org/event/executive-board-meeting-4/2030-02-05/
CATEGORIES:default
END:VEVENT
BEGIN:VEVENT
DTSTART;TZID=UTC:20300212T130000
DTEND;TZID=UTC:20300212T150000
DTSTAMP:20260425T163935
CREATED:20260419T212412Z
LAST-MODIFIED:20260419T212412Z
UID:10000581-1897131600-1897138800@iueclocal19.org
SUMMARY:Local 19 Joint Apprenticeship Committee
DESCRIPTION:
URL:https://iueclocal19.org/event/local-19-joint-apprenticeship-committee/2030-02-12/
CATEGORIES:default
END:VEVENT
BEGIN:VEVENT
DTSTART;TZID=UTC:20300212T173000
DTEND;TZID=UTC:20300212T203000
DTSTAMP:20260425T163935
CREATED:20260419T211934Z
LAST-MODIFIED:20260419T211934Z
UID:10000521-1897147800-1897158600@iueclocal19.org
SUMMARY:Seattle Union Meeting
DESCRIPTION:
URL:https://iueclocal19.org/event/seattle-union-meeting/2030-02-12/
CATEGORIES:default
END:VEVENT
BEGIN:VEVENT
DTSTART;TZID=UTC:20300305T170000
DTEND;TZID=UTC:20300305T200000
DTSTAMP:20260425T163935
CREATED:20260419T211817Z
LAST-MODIFIED:20260419T211817Z
UID:10000462-1898960400-1898971200@iueclocal19.org
SUMMARY:Executive Board Meeting
DESCRIPTION:
URL:https://iueclocal19.org/event/executive-board-meeting-4/2030-03-05/
CATEGORIES:default
END:VEVENT
BEGIN:VEVENT
DTSTART;TZID=UTC:20300312T130000
DTEND;TZID=UTC:20300312T150000
DTSTAMP:20260425T163935
CREATED:20260419T212412Z
LAST-MODIFIED:20260419T212412Z
UID:10000582-1899550800-1899558000@iueclocal19.org
SUMMARY:Local 19 Joint Apprenticeship Committee
DESCRIPTION:
URL:https://iueclocal19.org/event/local-19-joint-apprenticeship-committee/2030-03-12/
CATEGORIES:default
END:VEVENT
BEGIN:VEVENT
DTSTART;TZID=UTC:20300312T173000
DTEND;TZID=UTC:20300312T203000
DTSTAMP:20260425T163935
CREATED:20260419T211934Z
LAST-MODIFIED:20260419T211934Z
UID:10000522-1899567000-1899577800@iueclocal19.org
SUMMARY:Seattle Union Meeting
DESCRIPTION:
URL:https://iueclocal19.org/event/seattle-union-meeting/2030-03-12/
CATEGORIES:default
END:VEVENT
BEGIN:VEVENT
DTSTART;TZID=UTC:20300402T170000
DTEND;TZID=UTC:20300402T200000
DTSTAMP:20260425T163935
CREATED:20260419T211817Z
LAST-MODIFIED:20260419T211817Z
UID:10000463-1901379600-1901390400@iueclocal19.org
SUMMARY:Executive Board Meeting
DESCRIPTION:
URL:https://iueclocal19.org/event/executive-board-meeting-4/2030-04-02/
CATEGORIES:default
END:VEVENT
BEGIN:VEVENT
DTSTART;TZID=UTC:20300409T130000
DTEND;TZID=UTC:20300409T150000
DTSTAMP:20260425T163935
CREATED:20260419T212412Z
LAST-MODIFIED:20260419T212412Z
UID:10000583-1901970000-1901977200@iueclocal19.org
SUMMARY:Local 19 Joint Apprenticeship Committee
DESCRIPTION:
URL:https://iueclocal19.org/event/local-19-joint-apprenticeship-committee/2030-04-09/
CATEGORIES:default
END:VEVENT
BEGIN:VEVENT
DTSTART;TZID=UTC:20300409T173000
DTEND;TZID=UTC:20300409T203000
DTSTAMP:20260425T163935
CREATED:20260419T211934Z
LAST-MODIFIED:20260419T211934Z
UID:10000523-1901986200-1901997000@iueclocal19.org
SUMMARY:Seattle Union Meeting
DESCRIPTION:
URL:https://iueclocal19.org/event/seattle-union-meeting/2030-04-09/
CATEGORIES:default
END:VEVENT
BEGIN:VEVENT
DTSTART;TZID=UTC:20300507T170000
DTEND;TZID=UTC:20300507T200000
DTSTAMP:20260425T163935
CREATED:20260419T211817Z
LAST-MODIFIED:20260419T211817Z
UID:10000464-1904403600-1904414400@iueclocal19.org
SUMMARY:Executive Board Meeting
DESCRIPTION:
URL:https://iueclocal19.org/event/executive-board-meeting-4/2030-05-07/
CATEGORIES:default
END:VEVENT
BEGIN:VEVENT
DTSTART;TZID=UTC:20300514T130000
DTEND;TZID=UTC:20300514T150000
DTSTAMP:20260425T163935
CREATED:20260419T212412Z
LAST-MODIFIED:20260419T212412Z
UID:10000584-1904994000-1905001200@iueclocal19.org
SUMMARY:Local 19 Joint Apprenticeship Committee
DESCRIPTION:
URL:https://iueclocal19.org/event/local-19-joint-apprenticeship-committee/2030-05-14/
CATEGORIES:default
END:VEVENT
BEGIN:VEVENT
DTSTART;TZID=UTC:20300514T173000
DTEND;TZID=UTC:20300514T203000
DTSTAMP:20260425T163935
CREATED:20260419T211934Z
LAST-MODIFIED:20260419T211934Z
UID:10000524-1905010200-1905021000@iueclocal19.org
SUMMARY:Seattle Union Meeting
DESCRIPTION:
URL:https://iueclocal19.org/event/seattle-union-meeting/2030-05-14/
CATEGORIES:default
END:VEVENT
BEGIN:VEVENT
DTSTART;TZID=UTC:20300604T170000
DTEND;TZID=UTC:20300604T200000
DTSTAMP:20260425T163935
CREATED:20260419T211817Z
LAST-MODIFIED:20260419T211817Z
UID:10000465-1906822800-1906833600@iueclocal19.org
SUMMARY:Executive Board Meeting
DESCRIPTION:
URL:https://iueclocal19.org/event/executive-board-meeting-4/2030-06-04/
CATEGORIES:default
END:VEVENT
BEGIN:VEVENT
DTSTART;TZID=UTC:20300611T130000
DTEND;TZID=UTC:20300611T150000
DTSTAMP:20260425T163935
CREATED:20260419T212412Z
LAST-MODIFIED:20260419T212412Z
UID:10000585-1907413200-1907420400@iueclocal19.org
SUMMARY:Local 19 Joint Apprenticeship Committee
DESCRIPTION:
URL:https://iueclocal19.org/event/local-19-joint-apprenticeship-committee/2030-06-11/
CATEGORIES:default
END:VEVENT
BEGIN:VEVENT
DTSTART;TZID=UTC:20300611T173000
DTEND;TZID=UTC:20300611T203000
DTSTAMP:20260425T163935
CREATED:20260419T211934Z
LAST-MODIFIED:20260419T211934Z
UID:10000525-1907429400-1907440200@iueclocal19.org
SUMMARY:Seattle Union Meeting
DESCRIPTION:
URL:https://iueclocal19.org/event/seattle-union-meeting/2030-06-11/
CATEGORIES:default
END:VEVENT
BEGIN:VEVENT
DTSTART;TZID=UTC:20300702T170000
DTEND;TZID=UTC:20300702T200000
DTSTAMP:20260425T163935
CREATED:20260419T211817Z
LAST-MODIFIED:20260419T211817Z
UID:10000466-1909242000-1909252800@iueclocal19.org
SUMMARY:Executive Board Meeting
DESCRIPTION:
URL:https://iueclocal19.org/event/executive-board-meeting-4/2030-07-02/
CATEGORIES:default
END:VEVENT
BEGIN:VEVENT
DTSTART;TZID=UTC:20300709T130000
DTEND;TZID=UTC:20300709T150000
DTSTAMP:20260425T163935
CREATED:20260419T212412Z
LAST-MODIFIED:20260419T212412Z
UID:10000586-1909832400-1909839600@iueclocal19.org
SUMMARY:Local 19 Joint Apprenticeship Committee
DESCRIPTION:
URL:https://iueclocal19.org/event/local-19-joint-apprenticeship-committee/2030-07-09/
CATEGORIES:default
END:VEVENT
BEGIN:VEVENT
DTSTART;TZID=UTC:20300709T173000
DTEND;TZID=UTC:20300709T203000
DTSTAMP:20260425T163935
CREATED:20260419T211934Z
LAST-MODIFIED:20260419T211934Z
UID:10000526-1909848600-1909859400@iueclocal19.org
SUMMARY:Seattle Union Meeting
DESCRIPTION:
URL:https://iueclocal19.org/event/seattle-union-meeting/2030-07-09/
CATEGORIES:default
END:VEVENT
BEGIN:VEVENT
DTSTART;TZID=UTC:20300806T170000
DTEND;TZID=UTC:20300806T200000
DTSTAMP:20260425T163935
CREATED:20260419T211817Z
LAST-MODIFIED:20260419T211817Z
UID:10000467-1912266000-1912276800@iueclocal19.org
SUMMARY:Executive Board Meeting
DESCRIPTION:
URL:https://iueclocal19.org/event/executive-board-meeting-4/2030-08-06/
CATEGORIES:default
END:VEVENT
BEGIN:VEVENT
DTSTART;TZID=UTC:20300813T130000
DTEND;TZID=UTC:20300813T150000
DTSTAMP:20260425T163935
CREATED:20260419T212412Z
LAST-MODIFIED:20260419T212412Z
UID:10000587-1912856400-1912863600@iueclocal19.org
SUMMARY:Local 19 Joint Apprenticeship Committee
DESCRIPTION:
URL:https://iueclocal19.org/event/local-19-joint-apprenticeship-committee/2030-08-13/
CATEGORIES:default
END:VEVENT
BEGIN:VEVENT
DTSTART;TZID=UTC:20300813T173000
DTEND;TZID=UTC:20300813T203000
DTSTAMP:20260425T163935
CREATED:20260419T211934Z
LAST-MODIFIED:20260419T211934Z
UID:10000527-1912872600-1912883400@iueclocal19.org
SUMMARY:Seattle Union Meeting
DESCRIPTION:
URL:https://iueclocal19.org/event/seattle-union-meeting/2030-08-13/
CATEGORIES:default
END:VEVENT
BEGIN:VEVENT
DTSTART;TZID=UTC:20300903T170000
DTEND;TZID=UTC:20300903T200000
DTSTAMP:20260425T163935
CREATED:20260419T211817Z
LAST-MODIFIED:20260419T211817Z
UID:10000468-1914685200-1914696000@iueclocal19.org
SUMMARY:Executive Board Meeting
DESCRIPTION:
URL:https://iueclocal19.org/event/executive-board-meeting-4/2030-09-03/
CATEGORIES:default
END:VEVENT
END:VCALENDAR