BEGIN:VCALENDAR
VERSION:2.0
PRODID:-//Local 19 - ECPv6.15.18//NONSGML v1.0//EN
CALSCALE:GREGORIAN
METHOD:PUBLISH
X-WR-CALNAME:Local 19
X-ORIGINAL-URL:https://iueclocal19.org
X-WR-CALDESC:Events for Local 19
REFRESH-INTERVAL;VALUE=DURATION:PT1H
X-Robots-Tag:noindex
X-PUBLISHED-TTL:PT1H
BEGIN:VTIMEZONE
TZID:UTC
BEGIN:STANDARD
TZOFFSETFROM:+0000
TZOFFSETTO:+0000
TZNAME:UTC
DTSTART:20280101T000000
END:STANDARD
END:VTIMEZONE
BEGIN:VEVENT
DTSTART;TZID=UTC:20290306T170000
DTEND;TZID=UTC:20290306T200000
DTSTAMP:20260425T145406
CREATED:20260419T211817Z
LAST-MODIFIED:20260419T211817Z
UID:10000450-1867510800-1867521600@iueclocal19.org
SUMMARY:Executive Board Meeting
DESCRIPTION:
URL:https://iueclocal19.org/event/executive-board-meeting-4/2029-03-06/
CATEGORIES:default
END:VEVENT
BEGIN:VEVENT
DTSTART;TZID=UTC:20290313T130000
DTEND;TZID=UTC:20290313T150000
DTSTAMP:20260425T145406
CREATED:20260419T212412Z
LAST-MODIFIED:20260419T212412Z
UID:10000570-1868101200-1868108400@iueclocal19.org
SUMMARY:Local 19 Joint Apprenticeship Committee
DESCRIPTION:
URL:https://iueclocal19.org/event/local-19-joint-apprenticeship-committee/2029-03-13/
CATEGORIES:default
END:VEVENT
BEGIN:VEVENT
DTSTART;TZID=UTC:20290313T173000
DTEND;TZID=UTC:20290313T203000
DTSTAMP:20260425T145406
CREATED:20260419T211934Z
LAST-MODIFIED:20260419T211934Z
UID:10000510-1868117400-1868128200@iueclocal19.org
SUMMARY:Seattle Union Meeting
DESCRIPTION:
URL:https://iueclocal19.org/event/seattle-union-meeting/2029-03-13/
CATEGORIES:default
END:VEVENT
BEGIN:VEVENT
DTSTART;TZID=UTC:20290403T170000
DTEND;TZID=UTC:20290403T200000
DTSTAMP:20260425T145406
CREATED:20260419T211817Z
LAST-MODIFIED:20260419T211817Z
UID:10000451-1869930000-1869940800@iueclocal19.org
SUMMARY:Executive Board Meeting
DESCRIPTION:
URL:https://iueclocal19.org/event/executive-board-meeting-4/2029-04-03/
CATEGORIES:default
END:VEVENT
BEGIN:VEVENT
DTSTART;TZID=UTC:20290410T130000
DTEND;TZID=UTC:20290410T150000
DTSTAMP:20260425T145406
CREATED:20260419T212412Z
LAST-MODIFIED:20260419T212412Z
UID:10000571-1870520400-1870527600@iueclocal19.org
SUMMARY:Local 19 Joint Apprenticeship Committee
DESCRIPTION:
URL:https://iueclocal19.org/event/local-19-joint-apprenticeship-committee/2029-04-10/
CATEGORIES:default
END:VEVENT
BEGIN:VEVENT
DTSTART;TZID=UTC:20290410T173000
DTEND;TZID=UTC:20290410T203000
DTSTAMP:20260425T145406
CREATED:20260419T211934Z
LAST-MODIFIED:20260419T211934Z
UID:10000511-1870536600-1870547400@iueclocal19.org
SUMMARY:Seattle Union Meeting
DESCRIPTION:
URL:https://iueclocal19.org/event/seattle-union-meeting/2029-04-10/
CATEGORIES:default
END:VEVENT
BEGIN:VEVENT
DTSTART;TZID=UTC:20290501T170000
DTEND;TZID=UTC:20290501T200000
DTSTAMP:20260425T145406
CREATED:20260419T211817Z
LAST-MODIFIED:20260419T211817Z
UID:10000452-1872349200-1872360000@iueclocal19.org
SUMMARY:Executive Board Meeting
DESCRIPTION:
URL:https://iueclocal19.org/event/executive-board-meeting-4/2029-05-01/
CATEGORIES:default
END:VEVENT
BEGIN:VEVENT
DTSTART;TZID=UTC:20290508T130000
DTEND;TZID=UTC:20290508T150000
DTSTAMP:20260425T145406
CREATED:20260419T212412Z
LAST-MODIFIED:20260419T212412Z
UID:10000572-1872939600-1872946800@iueclocal19.org
SUMMARY:Local 19 Joint Apprenticeship Committee
DESCRIPTION:
URL:https://iueclocal19.org/event/local-19-joint-apprenticeship-committee/2029-05-08/
CATEGORIES:default
END:VEVENT
BEGIN:VEVENT
DTSTART;TZID=UTC:20290508T173000
DTEND;TZID=UTC:20290508T203000
DTSTAMP:20260425T145406
CREATED:20260419T211934Z
LAST-MODIFIED:20260419T211934Z
UID:10000512-1872955800-1872966600@iueclocal19.org
SUMMARY:Seattle Union Meeting
DESCRIPTION:
URL:https://iueclocal19.org/event/seattle-union-meeting/2029-05-08/
CATEGORIES:default
END:VEVENT
BEGIN:VEVENT
DTSTART;TZID=UTC:20290605T170000
DTEND;TZID=UTC:20290605T200000
DTSTAMP:20260425T145406
CREATED:20260419T211817Z
LAST-MODIFIED:20260419T211817Z
UID:10000453-1875373200-1875384000@iueclocal19.org
SUMMARY:Executive Board Meeting
DESCRIPTION:
URL:https://iueclocal19.org/event/executive-board-meeting-4/2029-06-05/
CATEGORIES:default
END:VEVENT
BEGIN:VEVENT
DTSTART;TZID=UTC:20290612T130000
DTEND;TZID=UTC:20290612T150000
DTSTAMP:20260425T145406
CREATED:20260419T212412Z
LAST-MODIFIED:20260419T212412Z
UID:10000573-1875963600-1875970800@iueclocal19.org
SUMMARY:Local 19 Joint Apprenticeship Committee
DESCRIPTION:
URL:https://iueclocal19.org/event/local-19-joint-apprenticeship-committee/2029-06-12/
CATEGORIES:default
END:VEVENT
BEGIN:VEVENT
DTSTART;TZID=UTC:20290612T173000
DTEND;TZID=UTC:20290612T203000
DTSTAMP:20260425T145406
CREATED:20260419T211934Z
LAST-MODIFIED:20260419T211934Z
UID:10000513-1875979800-1875990600@iueclocal19.org
SUMMARY:Seattle Union Meeting
DESCRIPTION:
URL:https://iueclocal19.org/event/seattle-union-meeting/2029-06-12/
CATEGORIES:default
END:VEVENT
BEGIN:VEVENT
DTSTART;TZID=UTC:20290703T170000
DTEND;TZID=UTC:20290703T200000
DTSTAMP:20260425T145406
CREATED:20260419T211817Z
LAST-MODIFIED:20260419T211817Z
UID:10000454-1877792400-1877803200@iueclocal19.org
SUMMARY:Executive Board Meeting
DESCRIPTION:
URL:https://iueclocal19.org/event/executive-board-meeting-4/2029-07-03/
CATEGORIES:default
END:VEVENT
BEGIN:VEVENT
DTSTART;TZID=UTC:20290710T130000
DTEND;TZID=UTC:20290710T150000
DTSTAMP:20260425T145406
CREATED:20260419T212412Z
LAST-MODIFIED:20260419T212412Z
UID:10000574-1878382800-1878390000@iueclocal19.org
SUMMARY:Local 19 Joint Apprenticeship Committee
DESCRIPTION:
URL:https://iueclocal19.org/event/local-19-joint-apprenticeship-committee/2029-07-10/
CATEGORIES:default
END:VEVENT
BEGIN:VEVENT
DTSTART;TZID=UTC:20290710T173000
DTEND;TZID=UTC:20290710T203000
DTSTAMP:20260425T145406
CREATED:20260419T211934Z
LAST-MODIFIED:20260419T211934Z
UID:10000514-1878399000-1878409800@iueclocal19.org
SUMMARY:Seattle Union Meeting
DESCRIPTION:
URL:https://iueclocal19.org/event/seattle-union-meeting/2029-07-10/
CATEGORIES:default
END:VEVENT
BEGIN:VEVENT
DTSTART;TZID=UTC:20290807T170000
DTEND;TZID=UTC:20290807T200000
DTSTAMP:20260425T145406
CREATED:20260419T211817Z
LAST-MODIFIED:20260419T211817Z
UID:10000455-1880816400-1880827200@iueclocal19.org
SUMMARY:Executive Board Meeting
DESCRIPTION:
URL:https://iueclocal19.org/event/executive-board-meeting-4/2029-08-07/
CATEGORIES:default
END:VEVENT
BEGIN:VEVENT
DTSTART;TZID=UTC:20290814T130000
DTEND;TZID=UTC:20290814T150000
DTSTAMP:20260425T145406
CREATED:20260419T212412Z
LAST-MODIFIED:20260419T212412Z
UID:10000575-1881406800-1881414000@iueclocal19.org
SUMMARY:Local 19 Joint Apprenticeship Committee
DESCRIPTION:
URL:https://iueclocal19.org/event/local-19-joint-apprenticeship-committee/2029-08-14/
CATEGORIES:default
END:VEVENT
BEGIN:VEVENT
DTSTART;TZID=UTC:20290814T173000
DTEND;TZID=UTC:20290814T203000
DTSTAMP:20260425T145406
CREATED:20260419T211934Z
LAST-MODIFIED:20260419T211934Z
UID:10000515-1881423000-1881433800@iueclocal19.org
SUMMARY:Seattle Union Meeting
DESCRIPTION:
URL:https://iueclocal19.org/event/seattle-union-meeting/2029-08-14/
CATEGORIES:default
END:VEVENT
BEGIN:VEVENT
DTSTART;TZID=UTC:20290904T170000
DTEND;TZID=UTC:20290904T200000
DTSTAMP:20260425T145406
CREATED:20260419T211817Z
LAST-MODIFIED:20260419T211817Z
UID:10000456-1883235600-1883246400@iueclocal19.org
SUMMARY:Executive Board Meeting
DESCRIPTION:
URL:https://iueclocal19.org/event/executive-board-meeting-4/2029-09-04/
CATEGORIES:default
END:VEVENT
BEGIN:VEVENT
DTSTART;TZID=UTC:20290911T130000
DTEND;TZID=UTC:20290911T150000
DTSTAMP:20260425T145406
CREATED:20260419T212412Z
LAST-MODIFIED:20260419T212412Z
UID:10000576-1883826000-1883833200@iueclocal19.org
SUMMARY:Local 19 Joint Apprenticeship Committee
DESCRIPTION:
URL:https://iueclocal19.org/event/local-19-joint-apprenticeship-committee/2029-09-11/
CATEGORIES:default
END:VEVENT
BEGIN:VEVENT
DTSTART;TZID=UTC:20290911T173000
DTEND;TZID=UTC:20290911T203000
DTSTAMP:20260425T145406
CREATED:20260419T211934Z
LAST-MODIFIED:20260419T211934Z
UID:10000516-1883842200-1883853000@iueclocal19.org
SUMMARY:Seattle Union Meeting
DESCRIPTION:
URL:https://iueclocal19.org/event/seattle-union-meeting/2029-09-11/
CATEGORIES:default
END:VEVENT
BEGIN:VEVENT
DTSTART;TZID=UTC:20291002T170000
DTEND;TZID=UTC:20291002T200000
DTSTAMP:20260425T145406
CREATED:20260419T211817Z
LAST-MODIFIED:20260419T211817Z
UID:10000457-1885654800-1885665600@iueclocal19.org
SUMMARY:Executive Board Meeting
DESCRIPTION:
URL:https://iueclocal19.org/event/executive-board-meeting-4/2029-10-02/
CATEGORIES:default
END:VEVENT
BEGIN:VEVENT
DTSTART;TZID=UTC:20291009T130000
DTEND;TZID=UTC:20291009T150000
DTSTAMP:20260425T145406
CREATED:20260419T212412Z
LAST-MODIFIED:20260419T212412Z
UID:10000577-1886245200-1886252400@iueclocal19.org
SUMMARY:Local 19 Joint Apprenticeship Committee
DESCRIPTION:
URL:https://iueclocal19.org/event/local-19-joint-apprenticeship-committee/2029-10-09/
CATEGORIES:default
END:VEVENT
BEGIN:VEVENT
DTSTART;TZID=UTC:20291009T173000
DTEND;TZID=UTC:20291009T203000
DTSTAMP:20260425T145406
CREATED:20260419T211934Z
LAST-MODIFIED:20260419T211934Z
UID:10000517-1886261400-1886272200@iueclocal19.org
SUMMARY:Seattle Union Meeting
DESCRIPTION:
URL:https://iueclocal19.org/event/seattle-union-meeting/2029-10-09/
CATEGORIES:default
END:VEVENT
BEGIN:VEVENT
DTSTART;TZID=UTC:20291106T170000
DTEND;TZID=UTC:20291106T200000
DTSTAMP:20260425T145406
CREATED:20260419T211817Z
LAST-MODIFIED:20260419T211817Z
UID:10000458-1888678800-1888689600@iueclocal19.org
SUMMARY:Executive Board Meeting
DESCRIPTION:
URL:https://iueclocal19.org/event/executive-board-meeting-4/2029-11-06/
CATEGORIES:default
END:VEVENT
BEGIN:VEVENT
DTSTART;TZID=UTC:20291113T130000
DTEND;TZID=UTC:20291113T150000
DTSTAMP:20260425T145406
CREATED:20260419T212412Z
LAST-MODIFIED:20260419T212412Z
UID:10000578-1889269200-1889276400@iueclocal19.org
SUMMARY:Local 19 Joint Apprenticeship Committee
DESCRIPTION:
URL:https://iueclocal19.org/event/local-19-joint-apprenticeship-committee/2029-11-13/
CATEGORIES:default
END:VEVENT
BEGIN:VEVENT
DTSTART;TZID=UTC:20291113T173000
DTEND;TZID=UTC:20291113T203000
DTSTAMP:20260425T145406
CREATED:20260419T211934Z
LAST-MODIFIED:20260419T211934Z
UID:10000518-1889285400-1889296200@iueclocal19.org
SUMMARY:Seattle Union Meeting
DESCRIPTION:
URL:https://iueclocal19.org/event/seattle-union-meeting/2029-11-13/
CATEGORIES:default
END:VEVENT
BEGIN:VEVENT
DTSTART;TZID=UTC:20291204T170000
DTEND;TZID=UTC:20291204T200000
DTSTAMP:20260425T145406
CREATED:20260419T211817Z
LAST-MODIFIED:20260419T211817Z
UID:10000459-1891098000-1891108800@iueclocal19.org
SUMMARY:Executive Board Meeting
DESCRIPTION:
URL:https://iueclocal19.org/event/executive-board-meeting-4/2029-12-04/
CATEGORIES:default
END:VEVENT
BEGIN:VEVENT
DTSTART;TZID=UTC:20291211T130000
DTEND;TZID=UTC:20291211T150000
DTSTAMP:20260425T145406
CREATED:20260419T212412Z
LAST-MODIFIED:20260419T212412Z
UID:10000579-1891688400-1891695600@iueclocal19.org
SUMMARY:Local 19 Joint Apprenticeship Committee
DESCRIPTION:
URL:https://iueclocal19.org/event/local-19-joint-apprenticeship-committee/2029-12-11/
CATEGORIES:default
END:VEVENT
BEGIN:VEVENT
DTSTART;TZID=UTC:20291211T173000
DTEND;TZID=UTC:20291211T203000
DTSTAMP:20260425T145406
CREATED:20260419T211934Z
LAST-MODIFIED:20260419T211934Z
UID:10000519-1891704600-1891715400@iueclocal19.org
SUMMARY:Seattle Union Meeting
DESCRIPTION:
URL:https://iueclocal19.org/event/seattle-union-meeting/2029-12-11/
CATEGORIES:default
END:VEVENT
END:VCALENDAR