BEGIN:VCALENDAR
VERSION:2.0
PRODID:-//Local 19 - ECPv6.15.18//NONSGML v1.0//EN
CALSCALE:GREGORIAN
METHOD:PUBLISH
X-WR-CALNAME:Local 19
X-ORIGINAL-URL:https://iueclocal19.org
X-WR-CALDESC:Events for Local 19
REFRESH-INTERVAL;VALUE=DURATION:PT1H
X-Robots-Tag:noindex
X-PUBLISHED-TTL:PT1H
BEGIN:VTIMEZONE
TZID:UTC
BEGIN:STANDARD
TZOFFSETFROM:+0000
TZOFFSETTO:+0000
TZNAME:UTC
DTSTART:20250101T000000
END:STANDARD
END:VTIMEZONE
BEGIN:VEVENT
DTSTART;TZID=UTC:20260407T180000
DTEND;TZID=UTC:20260407T210000
DTSTAMP:20260425T000655
CREATED:20260401T112536Z
LAST-MODIFIED:20260401T112536Z
UID:10000399-1775584800-1775595600@iueclocal19.org
SUMMARY:Local 19 Resolution Committee Meeting
DESCRIPTION:
URL:https://iueclocal19.org/event/local-19-resolution-committee-meeting/
END:VEVENT
BEGIN:VEVENT
DTSTART;TZID=UTC:20260415T110000
DTEND;TZID=UTC:20260415T130000
DTSTAMP:20260425T000655
CREATED:20260108T113944Z
LAST-MODIFIED:20260401T113202Z
UID:10000386-1776250800-1776258000@iueclocal19.org
SUMMARY:IUEC Local 19 Safety Committee Meeting
DESCRIPTION:
URL:https://iueclocal19.org/event/iuec-local-19-safety-committee-meeting-2/
CATEGORIES:default
END:VEVENT
BEGIN:VEVENT
DTSTART;TZID=UTC:20260419T080000
DTEND;TZID=UTC:20260422T170000
DTSTAMP:20260425T000655
CREATED:20260401T111245Z
LAST-MODIFIED:20260401T111256Z
UID:10000389-1776585600-1776877200@iueclocal19.org
SUMMARY:NABTU Legislative Conference
DESCRIPTION:
URL:https://iueclocal19.org/event/nabtu-legislative-conference-2026/
CATEGORIES:default
END:VEVENT
BEGIN:VEVENT
DTSTART;TZID=UTC:20260428T100000
DTEND;TZID=UTC:20260429T190000
DTSTAMP:20260425T000655
CREATED:20251113T153516Z
LAST-MODIFIED:20260401T111018Z
UID:10000382-1777370400-1777489200@iueclocal19.org
SUMMARY:IUEC Global Safety Summit
DESCRIPTION:
URL:https://iueclocal19.org/event/iuec-global-safety-summit/
CATEGORIES:default
END:VEVENT
BEGIN:VEVENT
DTSTART;TZID=UTC:20260501T080000
DTEND;TZID=UTC:20260501T170000
DTSTAMP:20260425T000655
CREATED:20260401T111447Z
LAST-MODIFIED:20260401T111447Z
UID:10000391-1777622400-1777654800@iueclocal19.org
SUMMARY:Washington Women in the Trades Event
DESCRIPTION:
URL:https://iueclocal19.org/event/washington-women-in-the-trades-event/
CATEGORIES:default
END:VEVENT
BEGIN:VEVENT
DTSTART;TZID=UTC:20260505T170000
DTEND;TZID=UTC:20260505T200000
DTSTAMP:20260425T000655
CREATED:20260419T211817Z
LAST-MODIFIED:20260419T211817Z
UID:10000416-1778000400-1778011200@iueclocal19.org
SUMMARY:Executive Board Meeting
DESCRIPTION:
URL:https://iueclocal19.org/event/executive-board-meeting-4/2026-05-05/
CATEGORIES:default
END:VEVENT
BEGIN:VEVENT
DTSTART;TZID=UTC:20260505T180000
DTEND;TZID=UTC:20260505T210000
DTSTAMP:20260425T000655
CREATED:20260401T112611Z
LAST-MODIFIED:20260401T112611Z
UID:10000400-1778004000-1778014800@iueclocal19.org
SUMMARY:Local 19 Resolution Committee Meeting
DESCRIPTION:
URL:https://iueclocal19.org/event/local-19-resolution-committee-meeting-2/
CATEGORIES:default
END:VEVENT
BEGIN:VEVENT
DTSTART;TZID=UTC:20260512T130000
DTEND;TZID=UTC:20260512T150000
DTSTAMP:20260425T000655
CREATED:20260419T212412Z
LAST-MODIFIED:20260419T212412Z
UID:10000536-1778590800-1778598000@iueclocal19.org
SUMMARY:Local 19 Joint Apprenticeship Committee
DESCRIPTION:
URL:https://iueclocal19.org/event/local-19-joint-apprenticeship-committee/2026-05-12/
CATEGORIES:default
END:VEVENT
BEGIN:VEVENT
DTSTART;TZID=UTC:20260512T173000
DTEND;TZID=UTC:20260512T203000
DTSTAMP:20260425T000655
CREATED:20260419T211934Z
LAST-MODIFIED:20260419T211934Z
UID:10000476-1778607000-1778617800@iueclocal19.org
SUMMARY:Seattle Union Meeting
DESCRIPTION:
URL:https://iueclocal19.org/event/seattle-union-meeting/2026-05-12/
CATEGORIES:default
END:VEVENT
BEGIN:VEVENT
DTSTART;TZID=UTC:20260516T180000
DTEND;TZID=UTC:20260516T210000
DTSTAMP:20260425T000655
CREATED:20260419T211517Z
LAST-MODIFIED:20260419T211517Z
UID:10000415-1778954400-1778965200@iueclocal19.org
SUMMARY:Seattle Sounders Labor Council Solidarity Night
DESCRIPTION:
URL:https://iueclocal19.org/event/seattle-sounders-labor-council-solidarity-night/
CATEGORIES:default
END:VEVENT
BEGIN:VEVENT
DTSTART;TZID=UTC:20260518T170000
DTEND;TZID=UTC:20260518T200000
DTSTAMP:20260425T000655
CREATED:20260419T211358Z
LAST-MODIFIED:20260419T211358Z
UID:10000414-1779123600-1779134400@iueclocal19.org
SUMMARY:Anchorage Union Meeting
DESCRIPTION:
URL:https://iueclocal19.org/event/anchorage-union-meeting/
CATEGORIES:default
END:VEVENT
BEGIN:VEVENT
DTSTART;TZID=UTC:20260602T170000
DTEND;TZID=UTC:20260602T200000
DTSTAMP:20260425T000655
CREATED:20260419T211817Z
LAST-MODIFIED:20260419T211817Z
UID:10000417-1780419600-1780430400@iueclocal19.org
SUMMARY:Executive Board Meeting
DESCRIPTION:
URL:https://iueclocal19.org/event/executive-board-meeting-4/2026-06-02/
CATEGORIES:default
END:VEVENT
BEGIN:VEVENT
DTSTART;TZID=UTC:20260602T180000
DTEND;TZID=UTC:20260602T210000
DTSTAMP:20260425T000655
CREATED:20260401T112649Z
LAST-MODIFIED:20260401T112649Z
UID:10000401-1780423200-1780434000@iueclocal19.org
SUMMARY:Local 19 Resolution Committee Meeting
DESCRIPTION:
URL:https://iueclocal19.org/event/local-19-resolution-committee-meeting-3/
CATEGORIES:default
END:VEVENT
BEGIN:VEVENT
DTSTART;TZID=UTC:20260606T080000
DTEND;TZID=UTC:20260606T170000
DTSTAMP:20260425T000655
CREATED:20260401T111508Z
LAST-MODIFIED:20260401T111508Z
UID:10000392-1780732800-1780765200@iueclocal19.org
SUMMARY:Local 19 Montana Picnic
DESCRIPTION:
URL:https://iueclocal19.org/event/local-19-montana-picnic/
END:VEVENT
BEGIN:VEVENT
DTSTART;TZID=UTC:20260609T130000
DTEND;TZID=UTC:20260609T150000
DTSTAMP:20260425T000655
CREATED:20260419T212412Z
LAST-MODIFIED:20260419T212412Z
UID:10000537-1781010000-1781017200@iueclocal19.org
SUMMARY:Local 19 Joint Apprenticeship Committee
DESCRIPTION:
URL:https://iueclocal19.org/event/local-19-joint-apprenticeship-committee/2026-06-09/
CATEGORIES:default
END:VEVENT
BEGIN:VEVENT
DTSTART;TZID=UTC:20260609T173000
DTEND;TZID=UTC:20260609T203000
DTSTAMP:20260425T000655
CREATED:20260419T211934Z
LAST-MODIFIED:20260419T211934Z
UID:10000477-1781026200-1781037000@iueclocal19.org
SUMMARY:Seattle Union Meeting
DESCRIPTION:
URL:https://iueclocal19.org/event/seattle-union-meeting/2026-06-09/
CATEGORIES:default
END:VEVENT
BEGIN:VEVENT
DTSTART;VALUE=DATE:20260615
DTEND;VALUE=DATE:20260620
DTSTAMP:20260425T000655
CREATED:20251113T182242Z
LAST-MODIFIED:20251113T182242Z
UID:10000383-1781506800-1781852399@iueclocal19.org
SUMMARY:CECA 2026
DESCRIPTION:
URL:https://iueclocal19.org/event/ceca-2026/
END:VEVENT
BEGIN:VEVENT
DTSTART;TZID=UTC:20260627T080000
DTEND;TZID=UTC:20260627T170000
DTSTAMP:20260425T000655
CREATED:20260401T111916Z
LAST-MODIFIED:20260401T111916Z
UID:10000398-1782547200-1782579600@iueclocal19.org
SUMMARY:Construction Hike for Hope - Snohomish
DESCRIPTION:
URL:https://iueclocal19.org/event/construction-hike-for-hope-snohomish/
CATEGORIES:default
END:VEVENT
BEGIN:VEVENT
DTSTART;TZID=UTC:20260707T170000
DTEND;TZID=UTC:20260707T200000
DTSTAMP:20260425T000655
CREATED:20260419T211817Z
LAST-MODIFIED:20260419T211817Z
UID:10000418-1783443600-1783454400@iueclocal19.org
SUMMARY:Executive Board Meeting
DESCRIPTION:
URL:https://iueclocal19.org/event/executive-board-meeting-4/2026-07-07/
CATEGORIES:default
END:VEVENT
BEGIN:VEVENT
DTSTART;TZID=UTC:20260708T110000
DTEND;TZID=UTC:20260708T130000
DTSTAMP:20260425T000655
CREATED:20260108T114027Z
LAST-MODIFIED:20260108T114027Z
UID:10000387-1783508400-1783515600@iueclocal19.org
SUMMARY:IUEC Local 19 Safety Committee Meeting
DESCRIPTION:
URL:https://iueclocal19.org/event/iuec-local-19-safety-committee-meeting-3/
CATEGORIES:default
END:VEVENT
BEGIN:VEVENT
DTSTART;TZID=UTC:20260713T080000
DTEND;TZID=UTC:20260717T170000
DTSTAMP:20260425T000655
CREATED:20260401T111604Z
LAST-MODIFIED:20260401T111604Z
UID:10000394-1783929600-1784307600@iueclocal19.org
SUMMARY:QEI Class at Seattle Hall
DESCRIPTION:
URL:https://iueclocal19.org/event/qei-class-at-seattle-hall/
CATEGORIES:default
END:VEVENT
BEGIN:VEVENT
DTSTART;TZID=UTC:20260714T130000
DTEND;TZID=UTC:20260714T150000
DTSTAMP:20260425T000655
CREATED:20260419T212412Z
LAST-MODIFIED:20260419T212412Z
UID:10000538-1784034000-1784041200@iueclocal19.org
SUMMARY:Local 19 Joint Apprenticeship Committee
DESCRIPTION:
URL:https://iueclocal19.org/event/local-19-joint-apprenticeship-committee/2026-07-14/
CATEGORIES:default
END:VEVENT
BEGIN:VEVENT
DTSTART;TZID=UTC:20260714T173000
DTEND;TZID=UTC:20260714T203000
DTSTAMP:20260425T000655
CREATED:20260419T211934Z
LAST-MODIFIED:20260419T211934Z
UID:10000478-1784050200-1784061000@iueclocal19.org
SUMMARY:Seattle Union Meeting
DESCRIPTION:
URL:https://iueclocal19.org/event/seattle-union-meeting/2026-07-14/
CATEGORIES:default
END:VEVENT
BEGIN:VEVENT
DTSTART;TZID=UTC:20260718T080000
DTEND;TZID=UTC:20260718T170000
DTSTAMP:20260425T000655
CREATED:20260401T111532Z
LAST-MODIFIED:20260401T111532Z
UID:10000393-1784361600-1784394000@iueclocal19.org
SUMMARY:Local 19 Seattle Picnic
DESCRIPTION:
URL:https://iueclocal19.org/event/local-19-seattle-picnic/
CATEGORIES:default
END:VEVENT
BEGIN:VEVENT
DTSTART;TZID=UTC:20260721T080000
DTEND;TZID=UTC:20260723T170000
DTSTAMP:20260425T000655
CREATED:20260401T111745Z
LAST-MODIFIED:20260401T111745Z
UID:10000396-1784620800-1784826000@iueclocal19.org
SUMMARY:WSLC Convention
DESCRIPTION:
URL:https://iueclocal19.org/event/wslc-convention/
CATEGORIES:default
END:VEVENT
BEGIN:VEVENT
DTSTART;TZID=UTC:20260802T080000
DTEND;TZID=UTC:20260808T170000
DTSTAMP:20260425T000655
CREATED:20260401T111708Z
LAST-MODIFIED:20260401T111708Z
UID:10000395-1785657600-1786208400@iueclocal19.org
SUMMARY:IUEC General Convention
DESCRIPTION:
URL:https://iueclocal19.org/event/iuec-general-convention/
CATEGORIES:default
END:VEVENT
BEGIN:VEVENT
DTSTART;TZID=UTC:20260804T170000
DTEND;TZID=UTC:20260804T200000
DTSTAMP:20260425T000655
CREATED:20260419T211817Z
LAST-MODIFIED:20260419T211817Z
UID:10000419-1785862800-1785873600@iueclocal19.org
SUMMARY:Executive Board Meeting
DESCRIPTION:
URL:https://iueclocal19.org/event/executive-board-meeting-4/2026-08-04/
CATEGORIES:default
END:VEVENT
BEGIN:VEVENT
DTSTART;TZID=UTC:20260811T130000
DTEND;TZID=UTC:20260811T150000
DTSTAMP:20260425T000655
CREATED:20260419T212412Z
LAST-MODIFIED:20260419T212412Z
UID:10000539-1786453200-1786460400@iueclocal19.org
SUMMARY:Local 19 Joint Apprenticeship Committee
DESCRIPTION:
URL:https://iueclocal19.org/event/local-19-joint-apprenticeship-committee/2026-08-11/
CATEGORIES:default
END:VEVENT
BEGIN:VEVENT
DTSTART;TZID=UTC:20260811T173000
DTEND;TZID=UTC:20260811T203000
DTSTAMP:20260425T000655
CREATED:20260419T211934Z
LAST-MODIFIED:20260419T211934Z
UID:10000479-1786469400-1786480200@iueclocal19.org
SUMMARY:Seattle Union Meeting
DESCRIPTION:
URL:https://iueclocal19.org/event/seattle-union-meeting/2026-08-11/
CATEGORIES:default
END:VEVENT
BEGIN:VEVENT
DTSTART;TZID=UTC:20260901T170000
DTEND;TZID=UTC:20260901T200000
DTSTAMP:20260425T000655
CREATED:20260419T211817Z
LAST-MODIFIED:20260419T211817Z
UID:10000420-1788282000-1788292800@iueclocal19.org
SUMMARY:Executive Board Meeting
DESCRIPTION:
URL:https://iueclocal19.org/event/executive-board-meeting-4/2026-09-01/
CATEGORIES:default
END:VEVENT
END:VCALENDAR